Workbook

Sheet Home Specs
B1: Estimated Home Remodeling Costs
B2: This worksheet can be used in conjunction with the spec plan to estimate the costs for your home remodeling plan. The worksheet is segmented by each remodeling phase (based on each page from the specification plan). Link to each phase and estimate costs. Use this worksheet along with your spec plan to develop the home remodeling plan for bidding the project and to arrange financing.
B3: refer to specification plan
C6: Remodeling Specs | E6: Estimated Cost | G6: Notes
B8: view | C8: Lot Excavation | E8: =SUM(Lot!E20) -> 0
B10: view | C10: Foundation | E10: =SUM(Foundation!E39) -> 0
B12: view | C12: Framing | E12: =SUM(Framing!E37) -> 0
B14: view | C14: Roofing | E14: =SUM(Roofing!E56) -> 0
B16: view | C16: Doors | E16: =SUM(Doors!I46) -> 0
B18: view | C18: Windows | E18: =SUM(Windows!I46) -> 0
B20: view | C20: Plumbing | E20: =SUM(Plumbing!I46) -> 0
B22: view | C22: Electrical | E22: =SUM(Electrical!I46) -> 0
B24: view | C24: HVAC - Water Heating | E24: =SUM(HVAC!E100) -> 0
B26: view | C26: Weatherization - Insulation | E26: =SUM(Weather!E57) -> 0
B28: view | C28: Exterior Home | E28: =SUM(Exterior!E132) -> 0
B30: view | C30: Walls | E30: =SUM(Walls!I46) -> 0
B32: view | C32: Ceilings | E32: =SUM(Ceilings!I46) -> 0
B34: view | C34: Kitchen | E34: =SUM(Kitchen!E61) -> 0
B36: view | C36: Bath | E36: =SUM(Bath!E151) -> 0
B38: view | C38: Laundry | E38: =SUM(Laundry!E67) -> 0
B40: view | C40: Flooring | E40: =SUM(Flooring!I46) -> 0
B42: view | C42: Lighting | E42: =SUM(Lighting!I46) -> 0
B44: view | C44: Other Amenities | E44: =SUM(Other!I46) -> 0
B46: view | C46: Garage - Pathways | E46: =SUM(Garage!E63) -> 0
B48: view | C48: Around the Deck | E48: =SUM(Deck!E57) -> 0
B50: view | C50: Water - Sport | E50: =SUM('Water-Sport'!E42) -> 0
B52: view | C52: Garden Design | E52: =SUM('Garden Design'!E74) -> 0
B54: view | C54: Garden Elements | E54: =SUM('Garden Elements'!G31) -> 0
B56: view | C56: Interior Design | E56: =SUM(Interior!I46) -> 0
B58: view | C58: Exterior Design | E58: =SUM('Exterior Design'!I43) -> 0
C61: Total Estimated Cost: | E61: =SUM(E8:E58) -> 0

Sheet Lot
B1: Lot Excavation | G1: return to home specs
B3: refer to specification plan
C5: Issues | E5: Estimated Cost | G5: Notes
C7: Site Preparation
C8: Grading
C9: Layout
C10: Setbacks
C11: Easements
C12: Water Drainage
C13: Trees
C14: Extras
C15: Other
C16: Other
C17: Other
C20: Total Estimated Cost | E20: =SUM(E9:E14) -> 0

Sheet Foundation
B1: Foundation | G1: return to home specs
B3: refer to specification plan: page 5
C5: Levels | E5: Total Sq. Footage
C7: One Story
C9: Two Story
C11: Three Story
C13: Split Level
C15: Basement
C17: Other
C19: Other
C22: Type Foundation (select) | E22: Estimated Cost * | G22: Notes (Description)
C24: Slap Foundation
C26: Crawlspace Foundation
C28: Basement Foundation
C30: Chimney
C32: Termite Infestation
C34: Other
C36: Other
C39: Total Estimated Cost: | E39: =SUM(E24:E36) -> 0
C42: * Based on home style and sq. footage

Sheet Framing
B1: House Framing | G1: return to home specs
B3: refer to specification plan: pages 2-3, 6
C5: Levels | E5: Total Sq. Footage
C7: One Story
C9: Two Story
C11: Three Story
C13: Split Level
C15: Basement
C17: Room Framing
C19: Other
C22: Type Framing (select) | E22: Estimated Cost * | G22: Notes (Description)
C24: Wood Framing
C26: Steel Framing
C28: Other Framing
C30: Framing Considerations
C32: Other
C34: Other
C37: Total Estimated Cost: | E37: =SUM(E24:E34) -> 0
C40: * Based on home style and sq. footage

Sheet Roofing
B1: Roofing | G1: return to home specs
B3: refer to specification plan: page 7
C5: Type Roofing (select) | E5: Estimated Cost | G5: Notes (Description)
C7: Cedar Shingles
C9: Asphalt Shingles
C11: Metal Roofing
C13: Ceramic Tiles
C15: Other:
C18: Estimated Cost Selection: | E18: 0
C22: Roofing Extras | E22: Estimated Cost | G22: Notes (Description)
C24: Solar Roofing
C26: Weather Roofing
C29: Estimated Cost Selection: | E29: 0
C33: Rain Removal Systems | E33: Estimated Cost | G33: Notes (Description)
C35: Gutter Systems
C37: Spouts / Guards
C40: Estimated Cost Selection: | E40: 0
C44: Other Roofing | E44: Estimated Cost | G44: Notes (Description)
C46: Other
C48: Other
C51: Estimated Cost Selection: | E51: 0
C56: Total Estimated Cost: | E56: =SUM(E18,E29,E40,E51) -> 0

Sheet Doors
B1: Doors | G1: return to home specs
B3: refer to specification plan: page 8
C5: Room | E5: Room Location | G5: Door Type | I5: Estimated Cost | K5: Notes (Description)
C7: Example: | E7: Against Rear Wall | G7: French Door | I7: Est. Cost | K7: Any Descriptions or Notes
C9: Entry Way / Foyer | I9: 0
C10: Hall | I10: 0
C11: Living Room | I11: 0
C12: Dining Room | I12: 0
C13: Kitchen | I13: 0
C14: Breakfast | I14: 0
C15: Solarium | I15: 0
C16: Family (Great Room) | I16: 0
C17: Den / Library | I17: 0
C18: Recreation / Music Room | I18: 0
C19: Powder Room | I19: 0
C20: Mud (Laundry Room) | I20: 0
... C43: Garage | I43: 0
C46: Total Estimated Cost | I46: =SUM(I9:I43) -> 0

Sheet Windows
B1: Windows | G1: return to home specs
B3: refer to specification plan: page 9
C5: Room | E5: Room Location | G5: Window Type | I5: Estimated Cost | K5: Notes (Description)
C7: Example: | E7: Against Rear Wall | G7: Bay Window | I7: Est. Cost | K7: Any Descriptions or Notes
C9: Entry Way / Foyer | I9: 0
C10: Hall | I10: 0
C11: Living Room | I11: 0
C12: Dining Room | I12: 0
C13: Kitchen | I13: 0
C14: Breakfast | I14: 0
C15: Solarium | I15: 0
C16: Family (Great Room) | I16: 0
C17: Den / Library | I17: 0
C18: Recreation / Music Room | I18: 0
C19: Powder Room | I19: 0
C20: Mud (Laundry Room) | I20: 0
... C43: Garage | I43: 0
C46: Total Estimated Cost | I46: =SUM(I9:I43) -> 0

Sheet Plumbing
B1: Plumbing | G1: return to home specs
B3: refer to specification plan: page 10
C5: Room | E5: Room Location | G5: Plumbing Need | I5: Estimated Cost | K5: Notes (Description)
C7: Example: | E7: In SouthWest corner | G7: Utility Sink | I7: Est. Cost | K7: Any Descriptions or Notes
C9: Entry Way / Foyer | I9: 0
C10: Hall | I10: 0
C11: Living Room | I11: 0
C12: Dining Room | I12: 0
C13: Kitchen | I13: 0
C14: Breakfast | I14: 0
C15: Solarium | I15: 0
C16: Family (Great Room) | I16: 0
C17: Den / Library | I17: 0
C18: Recreation / Music Room | I18: 0
C19: Powder Room | I19: 0
C20: Mud (Laundry Room) | I20: 0
... C43: Garage | I43: 0
C46: Total Estimated Cost | I46: =SUM(I9:I43) -> 0

Sheet Electrical
B1: Electrical Wiring | G1: return to home specs
B3: refer to specification plan: page 11
C5: Room | E5: Room Location | G5: Wiring Need | I5: Estimated Cost | K5: Notes (Description)
C7: Example | E7: Over the Fireplace Mantel | G7: Entertainment Center | I7: Est. Cost | K7: Any Descriptions or Notes
C9: Entry Way / Foyer | I9: 0
C10: Hall | I10: 0
C11: Living Room | I11: 0
C12: Dining Room | I12: 0
C13: Kitchen | I13: 0
C14: Breakfast | I14: 0
C15: Solarium | I15: 0
C16: Family (Great Room) | I16: 0
C17: Den / Library | I17: 0
C18: Recreation / Music Room | I18: 0
C19: Powder Room | I19: 0
C20: Mud (Laundry Room) | I20: 0
... C43: Garage | I43: 0
C46: Total Estimated Cost | I46: =SUM(I9:I43) -> 0

Sheet HVAC
B1: HVAC - Water Heating | G1: return to home specs
B3: refer to specification plan: page 12
C5: Heating System (select) | E5: Estimated Cost | G5: Notes (Description)
C7: Electrical
C9: Natural Gas
C11: Oil
C13: Propane
C15: Geothermal
C17: Wood - Coal
C19: Other
C21: Enter Cost Selection: | E21: 0
C24: Cooling Systems (select) | E24: Estimated Cost | G24: Notes (Description)
C26: Central Air System
C28: Central Pump
C30: Room Units
C32: Other
C34: Enter Cost Selection: | E34: 0
C37: Alternative Systems | E37: Estimated Cost | G37: Notes (Description)
C39: Solar
C41: Wind
C43: Other
C45: Enter Cost Selection: | E45: 0
C48: Control Systems | E48: Estimated Cost | G48: Notes (Description)
C50: Programmable
C52: Other
C54: Enter Cost Selection: | E54: 0
C57: Air Quality Systems | E57: Estimated Cost | G57: Notes (Description)
C59: Humidifier
C61: Dehumidifier
C63: Air Filteration
C65: Other
C67: Enter Cost Selection: | E67: 0
C70: Distribution Systems | E70: Estimated Cost | G70: Notes (Description)
C72: Duct System
C74: Radiator
C76: Other
C78: Enter Cost Selection: | E78: 0
C81: Water Heating Systems | E81: Estimated Cost | G81: Notes (Description)
C83: Storage Water Heaters
C85: Tankless Water Heaters
...

Sheet Weather
B1: Weatherization and Insulation | G1: return to home specs
B3: refer to specification plan: page 13
C5: Insulation (select) | E5: Estimated Cost | G5: Notes (Description)
C7: Fiber Glass
C9: Spray Form
C11: Weather Stripping
C13: Other
C15: Other
C17: Cost Selection: | E17: 0
C21: Insulation Projects | E21: Estimated Cost | G21: Notes (Description)
C23: Unfinished Attic | G23: Description (R-Value):
C25: Finished Attic | G25: Description (R-Value):
C27: Basement Walls | G27: Description (R-Value):
C29: Cathedral Ceilings | G29: Description (R-Value):
C31: Crawlspace Heated | G31: Description (R-Value):
C33: Under Crawlspace | G33: Description (R-Value):
C35: Exterior Walls | G35: Description (R-Value):
C37: Floors | G37: Description (R-Value):
C39: Foundation Walls | G39: Description (R-Value):
C41: Under Slab | G41: Description (R-Value):
C43: HVAC Ducts | G43: Description (R-Value):
C45: Interior Noise Control | G45: Description (R-Value):
... C51: Other | G51: Description (R-Value):
C53: Cost Selection: | E53: 0
C57: Total Estimated Cost: | E57: =SUM(E17,E53) -> 0

Sheet Exterior
B1: Exterior Home | G1: return to home specs
B3: refer to specification plan: page 14-15
C5: Front Facing | E5: Estimated Cost | G5: Notes (Description)
C7: Vinyl / Aluminum
C9: Wood Shingles / Panel
C11: Brick Facing
C13: Stone Masonry
C15: Shutters
C17: Décor
C19: Other
C21: Other
C23: Cost Selection: | E23: =SUM(E7:E21) -> 0
C26: Side Facing | E26: Estimated Cost | G26: Notes (Description)
C28: Vinyl / Aluminum
C30: Wood Shingles / Panel
C32: Brick Facing
C34: Stone Masonry
C36: Shutters
C38: Décor
C40: Other
C42: Other
C44: Cost Selection: | E44: =SUM(E28:E42) -> 0
C47: Rear Facing | E47: Estimated Cost | G47: Notes (Description)
C49: Vinyl / Aluminum
C51: Wood Shingles / Panel
C53: Brick Facing
C55: Stone Masonry
C57: Shutters
C59: Décor
C61: Other
C63: Other
C65: Cost Selection: | E65: =SUM(E49:E63) -> 0
C68: Detached Garage | E68: Estimated Cost | G68: Notes (Description)
C70: Vinyl / Aluminum
C72: Wood Shingles / Panel
C74: Brick Facing
C76: Stone Masonry
C78: Shutters
C80: Décor
C82: Other
...

Sheet Walls
B1: Walls | G1: return to home specs
B3: refer to specification plan: page 16
C5: Room | E5: Room Location | G5: Wall Type | I5: Estimated Cost | K5: Notes (Description)
C7: Example: | E7: Outside Wall | G7: Wall Paper | I7: Est. Cost | K7: Any Descriptions or Notes
C9: Entry Way / Foyer | I9: 0
C10: Hall | I10: 0
C11: Living Room | I11: 0
C12: Dining Room | I12: 0
C13: Kitchen | I13: 0
C14: Breakfast | I14: 0
C15: Solarium | I15: 0
C16: Family (Great Room) | I16: 0
C17: Den / Library | I17: 0
C18: Recreation / Music Room | I18: 0
C19: Powder Room | I19: 0
C20: Mud (Laundry Room) | I20: 0
... C43: Garage | I43: 0
C46: Total Estimated Cost | I46: =SUM(I9:I43) -> 0

Sheet Ceilings
B1: Ceilings and Trim | G1: return to home specs
B3: refer to specification plan: page 17
C5: Room | E5: Room Location | G5: Ceiling - Trim Type | I5: Estimated Cost | K5: Notes (Description)
C7: Example: | E7: Type Room | G7: Tray Ceiling | I7: Est. Cost | K7: Any Descriptions or Notes
C9: Entry Way / Foyer | I9: 0
C10: Hall | I10: 0
C11: Living Room | I11: 0
C12: Dining Room | I12: 0
C13: Kitchen | I13: 0
C14: Breakfast | I14: 0
C15: Solarium | I15: 0
C16: Family (Great Room) | I16: 0
C17: Den / Library | I17: 0
C18: Recreation / Music Room | I18: 0
C19: Powder Room | I19: 0
C20: Mud (Laundry Room) | I20: 0
... C43: Garage | I43: 0
C46: Total Estimated Cost | I46: =SUM(I9:I43) -> 0

Sheet Kitchen
B1: Kitchen | G1: return to home specs
B3: refer to specification plan: page 18
C5: Kitchen Design | E5: Estimated Cost | G5: Notes (Description)
C7: Cabinets
C9: Lazy Susan
C11: Drawers Size
C13: Counter Tops
C15: Seating Area
C17: Islands
C19: Sinks
C21: Faucets / Fittings
C23: Sink Appliances
C25: Pantry / Storage
C27: Open Shelving
C29: Wine Storage
C31: Other
C33: Cost Selection: | E33: =SUM(E7:E31) -> 0
C36: Kitchen Appliances | E36: Estimated Cost | G36: Notes (Description)
C38: Cooking Tops
C40: Cooking Ranges
C42: Microwave Ovens
C44: Exhaust Vents / Hoods
C46: Dishwasher
C48: Trash Compactors
C50: Recycle Bins
C52: Other
C54: Other
C56: Cost Selection: | E56: =SUM(E38:E54) -> 0
C61: Total Estimated Cost: | E61: =SUM(E33,E56) -> 0

Sheet Bath
B1: Bath | G1: return to home specs
B3: refer to specification plan: page 19
C5: Master Bath | E5: Estimated Cost | G5: Notes (Description)
C7: Bath Tub
C9: Shower
C11: Sinks
C13: Faucet / Fittings
C15: Cabinets
C17: Toilets
C19: Other Appliances
C21: Medicine Cabinets
C23: Laundry Facilities
C25: Storage Facilities
C27: Other
C29: Other
C31: Cost Selection: | E31: =SUM(E7:E29) -> 0
C34: Other Bath 1 | E34: Estimated Cost | G34: Notes (Description)
C36: Bath Tub
C38: Shower
C40: Sinks
C42: Faucet / Fittings
C44: Cabinets
C46: Toilets
C48: Other Appliances
C50: Medicine Cabinets
C52: Laundry Facilities
C54: Storage Facilities
C56: Other
C58: Other
C60: Cost Selection: | E60: =SUM(E36:E58) -> 0
C63: Other Bath 2 | E63: Estimated Cost | G63: Notes (Description)
C65: Bath Tub
C67: Shower
C69: Sinks
C71: Faucet / Fittings
C73: Cabinets
C75: Toilets
C77: Other Appliances
C79: Medicine Cabinets
C81: Laundry Facilities
...

Sheet Laundry
B1: Laundry and Cleaning Closet | G1: return to home specs
B3: refer to specification plan: page 20
C5: Laundry Room | E5: Estimated Cost | G5: Notes (Description)
C7: For Electric Appliance
C9: For Gas Applicance
C11: Utility Sink
C13: Laundry Shoot
C15: Folding Counter Top
C17: Shelving
C19: Cabinets
C21: Medicine Cabinets
C23: Other
C25: Other
C27: Cost Selection: | E27: =SUM(E7:E25) -> 0
C30: Cleaning Closet | E30: Estimated Cost | G30: Notes (Description)
C32: Centralized Vacuum
C34: Shelving
C36: Cabinets
C38: Utility Sink
C40: Other
C42: Other
C44: Other
C46: Cost Selection: | E46: =SUM(E32:E44) -> 0
C49: Mud Room | E49: Estimated Cost | G49: Notes (Description)
C51: Shoe Rack
C53: Clothes Hanging
C55: Utility Sink / Other Plumbing
C57: Shelving
C59: Other
C61: Other
C63: Cost Selection: | E63: =SUM(E51:E61) -> 0
C67: Total Estimated Cost: | E67: =SUM(E63,E46,E27) -> 0

Sheet Flooring
B1: Flooring | G1: return to home specs
B3: refer to specification plan: page 21
C5: Room | E5: Room Location | G5: Flooring Type/Need | I5: Estimated Cost | K5: Notes (Description)
C7: Example: | E7: Entire Room | G7: Wood Floor | I7: Est. Cost | K7: Any Descriptions or Notes
C9: Entry Way / Foyer | I9: 0
C10: Hall | I10: 0
C11: Living Room | I11: 0
C12: Dining Room | I12: 0
C13: Kitchen | I13: 0
C14: Breakfast | I14: 0
C15: Solarium | I15: 0
C16: Family (Great Room) | I16: 0
C17: Den / Library | I17: 0
C18: Recreation / Music Room | I18: 0
C19: Powder Room | I19: 0
C20: Mud (Laundry Room) | I20: 0
... C43: Garage | I43: 0
C46: Total Estimated Cost | I46: =SUM(I9:I43) -> 0

Sheet Lighting
B1: Lighting | G1: return to home specs
B3: refer to specification plan: page 22
C5: Room | E5: Room Location | G5: Lighting Needs | I5: Estimated Cost | K5: Notes (Description)
C7: Example: | E7: Room Area | G7: Ceiling Fan | I7: Est. Cost | K7: Any Descriptions or Notes
C9: Entry Way / Foyer | I9: 0
C10: Hall | I10: 0
C11: Living Room | I11: 0
C12: Dining Room | I12: 0
C13: Kitchen | I13: 0
C14: Breakfast | I14: 0
C15: Solarium | I15: 0
C16: Family (Great Room) | I16: 0
C17: Den / Library | I17: 0
C18: Recreation / Music Room | I18: 0
C19: Powder Room | I19: 0
C20: Mud (Laundry Room) | I20: 0
... C43: Garage | I43: 0
C46: Total Estimated Cost | I46: =SUM(I9:I43) -> 0

Sheet Other
B1: Other Amenities | G1: return to home specs
B3: refer to specification plan: page 23
C5: Room | E5: Room Location | G5: Material Cost | I5: Estimated Cost | K5: Notes (Description)
C7: Example: | E7: Against Outside Wall | G7: Fireplace or Shelving | I7: Est. Cost | K7: Any Descriptions or Notes
C9: Entry Way / Foyer | I9: 0
C10: Hall | I10: 0
C11: Living Room | I11: 0
C12: Dining Room | I12: 0
C13: Kitchen | I13: 0
C14: Breakfast | I14: 0
C15: Solarium | I15: 0
C16: Family (Great Room) | I16: 0
C17: Den / Library | I17: 0
C18: Recreation / Music Room | I18: 0
C19: Powder Room | I19: 0
C20: Mud (Laundry Room) | I20: 0
... C43: Garage | I43: 0
C46: Total Estimated Cost | I46: =SUM(I9:I43) -> 0

Sheet Garage
B1: Garage / Pathways | G1: return to home specs
B3: refer to specification plan: page 24
C5: Garage | E5: Estimated Cost | G5: Notes (Description)
C7: Flooring
C9: Electrical
C11: Lighting
C13: Walls
C15: Insulation
C17: Other
C19: Other
C21: Cost Selection: | E21: =SUM(E7:E19) -> 0
C24: Drive Way | E24: Estimated Cost | G24: Notes (Description)
C26: Interlocking Block
C28: Brick
C30: Asphalt Paving
C32: Concrete Paving
C34: Pebble Rock
C36: Other
C38: Other
C40: Cost Selection: | E40: =SUM(E26:E38) -> 0
C43: Path Ways | E43: Estimated Cost | G43: Notes (Description)
C45: Interlocking Block
C47: Brick
C49: Stone
C51: Concrete Paving
C53: Pebble Rock
C55: Other
C57: Other
C59: Cost Selection: | E59: =SUM(E45:E57) -> 0
C63: Total Estimated Cost: | E63: =SUM(E59,E40,E21) -> 0

Sheet Deck
B1: Around the Deck | G1: return to home specs
B3: refer to specification plan: page 25
C5: Deck | E5: Estimated Cost | G5: Notes (Description)
C7: Deck Design
C9: Wood Decks
C11: Wood Composite
C13: Vinyl Decks
C15: Railings
C17: Other
C19: Other
C21: Cost Selection: | E21: =SUM(E7:E19) -> 0
C24: Patios | E24: Estimated Cost | G24: Notes (Description)
C26: Interlocking Block
C28: Brick
C30: Stone
C32: Concrete
C34: Pebble Rock
C36: Other
C38: Other
C40: Cost Selection: | E40: =SUM(E26:E38) -> 0
C43: Entertainment | E43: Estimated Cost | G43: Notes (Description)
C45: Grill Station
C47: Fire Pits
C49: Other
C51: Other
C53: Cost Selection: | E53: =SUM(E45:E51) -> 0
C57: Total Estimated Cost: | E57: =SUM(E53,E40,E21) -> 0

Sheet Water-Sport
B1: Water Needs - Sport Complex | G1: return to home specs
B3: refer to specification plan: page 26
C5: Water Facilities | E5: Estimated Cost | G5: Notes (Description)
C7: Spa
C9: Hot Tubs
C11: Swimming Pool
C13: Swimming Deck
C15: Swimming Fence
C17: Other Swimming Requirements
C19: Water Pond
C21: Fountains
C23: Other
C25: Cost Selection: | E25: =SUM(E7:E23) -> 0
C28: Sport Complex | E28: Estimated Cost | G28: Notes (Description)
C30: Tennis Court
C32: Basketball Court
C34: Play Area
C36: Other
C38: Cost Selection: | E38: =SUM(E30:E36) -> 0
C42: Total Estimated Cost: | E42: =SUM(E38,E25,) -> 0

Sheet Garden Design
B1: Garden Design / Landscaping | G1: return to home specs
B3: refer to specification plan: page 27
C5: Exterior Front | E5: Estimated Cost | G5: Notes (Description)
C7: Along the House
C9: Flower Beds
C11: Trees / Shrubs
C13: Lighting
C15: Other
C17: Other
C19: Cost Selection: | E19: =SUM(E7:E17) -> 0
C22: Facing Right Side | E22: Estimated Cost | G22: Notes (Description)
C24: Along the House
C26: Flower Beds
C28: Trees / Shrubs
C30: Lighting
C32: Other
C34: Other
C36: Cost Selection: | E36: =SUM(E24:E34) -> 0
C39: Facing Left Site | E39: Estimated Cost | G39: Notes (Description)
C41: Along the House
C43: Flower Beds
C45: Trees / Shrubs
C47: Lighting
C49: Other
C51: Other
C53: Cost Selection: | E53: =SUM(E41:E51) -> 0
C56: Exterior Rear | E56: Estimated Cost | G56: Notes (Description)
C58: Along the House
C60: Flower Beds
C62: Trees / Shrubs
C64: Lighting
C66: Other
C68: Other
C70: Cost Selection: | E70: =SUM(E58:E68) -> 0
C74: Total Estimated Cost: | E74: =SUM(E70,E53,E36,E19) -> 0

Sheet Garden Elements
B1: Garden Elements | G1: return to home specs
B3: refer to specification plan: page 28
C5: Room | E5: Garden Type | G5: Estimated Cost | I5: Notes (Description)
C7: Example: | E7: Rainbird Sprinklers | G7: Est. Cost | I7: Any Descriptions or Notes
C9: Irrigation System | G9: 0
C10: Other Watering System | G10: 0
C11: Decorative Fencing | G11: 0
C12: Privacy Fencing | G12: 0
C13: Animal Fencing | G13: 0
C14: Other Fencing | G14: 0
C15: Privacy Barriers | G15: 0
C16: Arbors / Awnings | G16: 0
C17: Gazebos | G17: 0
C18: Greenhouse | G18: 0
C19: Storage Sheds | G19: 0
C20: Flag Pole | G20: 0
... C28: Other | G28: 0
C31: Total Estimated Cost | G31: =SUM(G9:G28) -> 0

Sheet Interior
B1: Interior Design | G1: return to home specs
B3: refer to specification plan: page 29
C5: Room | E5: Room Location | G5: Décor Item | I5: Estimated Cost | K5: Notes (Description)
C7: Example: | E7: Room Area | G7: Leather Couch | I7: Est. Cost | K7: Any Descriptions or Notes
C9: Entry Way / Foyer | I9: 0
C10: Hall | I10: 0
C11: Living Room | I11: 0
C12: Dining Room | I12: 0
C13: Kitchen | I13: 0
C14: Breakfast | I14: 0
C15: Solarium | I15: 0
C16: Family (Great Room) | I16: 0
C17: Den / Library | I17: 0
C18: Recreation / Music Room | I18: 0
C19: Powder Room | I19: 0
C20: Mud (Laundry Room) | I20: 0
... C43: Garage | I43: 0
C46: Total Estimated Cost | I46: =SUM(I9:I43) -> 0

Sheet Exterior Design
B1: Exterior Design | G1: return to home specs
B3: refer to specification plan: page 30
C5: Area | E5: Outside Location | G5: Décor Item | I5: Estimated Cost | K5: Notes (Description)
C7: Example: | E7: Area | G7: High Scrubs | I7: Est. Cost | K7: Any Descriptions or Notes
C9: Deck Area | I9: 0
C10: Deck Area | I10: 0
C11: Deck Area | I11: 0
C12: Patio Area | I12: 0
C13: Patio Area | I13: 0
C14: Patio Area | I14: 0
C15: Front Area | I15: 0
C16: Front Area | I16: 0
C17: Front Area | I17: 0
C18: Front Area | I18: 0
C19: Right Side Area | I19: 0
C20: Right Side Area | I20: 0
... C40: Other: | I40: 0
C43: Total Estimated Cost | I43: =SUM(I9:I40) -> 0
