Workbook

Sheet Home Specs
B1: Estimate and Budget Home Remodeling Costs
B2: This worksheet can be used along with the spec plan to estimate costs for your home remodeling plan. The worksheet is segmented by each remodeling phase (based on each page from the specification plan). Link to each phase to estimate costs. You can then compare the estimate against actual cost to readjust your plan to stay within budget.
B3: Use this worksheet along with your spec plan to develop the home remodeling plan for bidding the project and to arrange financing. Note that the worksheet is partially protected to keep the calculations in place. We invite you to tailor this worksheet to fit your needs. If you need to "unprotect" any of sections, simply type in the password: 123
B4: refer to specification plan
C6: Remodeling Specs | E6: Estimated Cost | G6: Actual Cost | I6: Cost Difference
B8: view | C8: Lot Excavation | E8: =SUM(Lot!D20) -> 0 | G8: =SUM(Lot!G20) -> 0 | I8: =SUM(Lot!I20) -> 0
B10: view | C10: Foundation | E10: =SUM(Foundation!E39) -> 0 | G10: =SUM(Foundation!H39) -> 0 | I10: =SUM(Foundation!J39) -> 0
B12: view | C12: Framing | E12: =SUM(Framing!E37) -> 0 | G12: =SUM(Framing!H37) -> 0 | I12: =SUM(Framing!J37) -> 0
B14: view | C14: Roofing | E14: =SUM(Roofing!E56) -> 0 | G14: =SUM(Roofing!H56) -> 0 | I14: =SUM(Roofing!J56) -> 0
B16: view | C16: Doors | E16: =SUM(Doors!K46) -> 0 | G16: =SUM(Doors!N46) -> 0 | I16: =SUM(Doors!P46) -> 0
B18: view | C18: Windows | E18: =SUM(Windows!K46) -> 0 | G18: =SUM(Windows!N46) -> 0 | I18: =SUM(Windows!P46) -> 0
B20: view | C20: Plumbing | E20: =SUM(Plumbing!K46) -> 0 | G20: =SUM(Plumbing!N46) -> 0 | I20: =SUM(Plumbing!P46) -> 0
B22: view | C22: Electrical | E22: =SUM(Electrical!K46) -> 0 | G22: =SUM(Electrical!N46) -> 0 | I22: =SUM(Electrical!P46) -> 0
B24: view | C24: HVAC - Water Heating | E24: =SUM(HVAC!D100) -> 0 | G24: =SUM(HVAC!G100) -> 0 | I24: =SUM(HVAC!I100) -> 0
B26: view | C26: Weatherization - Insulation | E26: =SUM(Weather!D57) -> 0 | G26: =SUM(Weather!G57) -> 0 | I26: =SUM(Weather!I57) -> 0
B28: view | C28: Exterior Home | E28: =SUM(Exterior!D132) -> 0 | G28: =SUM(Exterior!G132) -> 0 | I28: =SUM(Exterior!I132) -> 0
B30: view | C30: Walls | E30: =SUM(Walls!K46) -> 0 | G30: =SUM(Walls!N46) -> 0 | I30: =SUM(Walls!P46) -> 0
B32: view | C32: Ceilings | E32: =SUM(Ceilings!K46) -> 0 | G32: =SUM(Ceilings!N46) -> 0 | I32: =SUM(Ceilings!P46) -> 0
B34: view | C34: Kitchen | E34: =SUM(Kitchen!I61) -> 0 | G34: =SUM(Kitchen!L61) -> 0 | I34: =SUM(Kitchen!N61) -> 0
B36: view | C36: Bath | E36: =SUM(Bath!E151) -> 0 | G36: =SUM(Bath!L151) -> 0 | I36: =SUM(Bath!N151) -> 0
B38: view | C38: Laundry | E38: =SUM(Laundry!J67) -> 0 | G38: =SUM(Laundry!M67) -> 0 | I38: =SUM(Laundry!O67) -> 0
B40: view | C40: Flooring | E40: =SUM(Flooring!L46) -> 0 | G40: =SUM(Flooring!O46) -> 0 | I40: =SUM(Flooring!Q46) -> 0
B42: view | C42: Lighting | E42: =SUM(Lighting!M46) -> 0 | G42: =SUM(Lighting!P46) -> 0 | I42: =SUM(Lighting!R46) -> 0
B44: view | C44: Other Amenities | E44: =SUM(Other!L46) -> 0 | G44: =SUM(Other!O46) -> 0 | I44: =SUM(Other!Q46) -> 0
B46: view | C46: Garage - Pathways | E46: =SUM(Garage!E63) -> 0 | G46: =SUM(Garage!H63) -> 0 | I46: =SUM(Garage!J63) -> 0
B48: view | C48: Around the Deck | E48: =SUM(Deck!E57) -> 0 | G48: =SUM(Deck!I57) -> 0 | I48: =SUM(Deck!K57) -> 0
B50: view | C50: Water - Sport | E50: =SUM('Water-Sport'!D42) -> 0 | G50: =SUM('Water-Sport'!G42) -> 0 | I50: =SUM('Water-Sport'!I42) -> 0
B52: view | C52: Garden Design | E52: =SUM('Garden Design'!D75) -> 0 | G52: =SUM('Garden Design'!F75) -> 0 | I52: =SUM('Garden Design'!G75) -> 0
B54: view | C54: Garden Elements | E54: =SUM('Garden Elements'!G31) -> 0 | G54: =SUM('Garden Elements'!I31) -> 0 | I54: =SUM('Garden Elements'!J31) -> 0
B56: view | C56: Interior Design | E56: =SUM(Interior!G46) -> 0 | G56: =SUM(Interior!I46) -> 0 | I56: =SUM(Interior!J46) -> 0
B58: view | C58: Exterior Design | E58: =SUM('Exterior Design'!H43) -> 0 | G58: =SUM('Exterior Design'!J43) -> 0 | I58: =SUM('Exterior Design'!K43) -> 0
C62: Total Estimated Cost: | E62: =SUM(E8:E58) -> 0 | G62: =SUM(G8:G58) -> 0 | I62: =SUM(I8:I58) -> 0

Sheet Lot
B1: Lot Excavation | F1: return to home specs
B3: refer to specification plan
C5: Issues | D5: Estimated Cost | F5: Type Work Needed | G5: Actural Cost | I5: Difference
C7: Site Preparation | D7: 0 | G7: 0 | I7: =SUM(G7-D7) -> 0
C8: Grading | D8: 0 | G8: 0 | I8: =SUM(G8-D8) -> 0
C9: Layout | D9: 0 | G9: 0 | I9: =SUM(G9-D9) -> 0
C10: Setbacks | D10: 0 | G10: 0 | I10: =SUM(G10-D10) -> 0
C11: Easements | D11: 0 | G11: 0 | I11: =SUM(G11-D11) -> 0
C12: Water Drainage | D12: 0 | G12: 0 | I12: =SUM(G12-D12) -> 0
C13: Trees | D13: 0 | G13: 0 | I13: =SUM(G13-D13) -> 0
C14: Extras | D14: 0 | G14: 0 | I14: =SUM(G14-D14) -> 0
C15: Other | D15: 0 | G15: 0 | I15: =SUM(G15-D15) -> 0
C16: Other | D16: 0 | G16: 0 | I16: =SUM(G16-D16) -> 0
C17: Other | D17: 0 | G17: 0 | I17: =SUM(G17-D17) -> 0
C20: Total Estimated Cost | D20: =SUM(D7:D17) -> 0 | G20: =SUM(G7:G17) -> 0 | I20: =SUM(I7:I17) -> 0

Sheet Foundation
B1: Foundation | G1: return to home specs
B3: refer to specification plan: page 7
C5: Levels | E5: Total Sq. Footage
C7: One Story
C9: Two Story
C11: Three Story
C13: Split Level
C15: Basement
C17: Other
C19: Other
C22: Type Foundation (select) | E22: Estimated Cost * | G22: Notes (Description) | H22: Actual Cost | J22: Difference
C24: Slap Foundation | E24: 0 | H24: 0 | J24: =SUM(H24-E24) -> 0
C26: Crawlspace Foundation | E26: 0 | H26: 0 | J26: =SUM(H26-E26) -> 0
C28: Basement Foundation | E28: 0 | H28: 0 | J28: =SUM(H28-E28) -> 0
C30: Chimney | E30: 0 | H30: 0 | J30: =SUM(H30-E30) -> 0
C32: Termite Infestation | E32: 0 | H32: 0 | J32: =SUM(H32-E32) -> 0
C34: Other | E34: 0 | H34: 0 | J34: =SUM(H34-E34) -> 0
C36: Other | E36: 0 | H36: 0 | J36: =SUM(H36-E36) -> 0
C39: Total Estimated Cost: | E39: =SUM(E24:E36) -> 0 | H39: =SUM(H24:H36) -> 0 | J39: =SUM(J24:J36) -> 0
C42: * Based on home style and sq. footage

Sheet Framing
B1: House Framing | G1: return to home specs
B3: refer to specification plan: pages 7-10
C5: Levels | E5: Total Sq. Footage
C7: One Story
C9: Two Story
C11: Three Story
C13: Split Level
C15: Basement
C17: Room Framing
C19: Other
C22: Type Framing (select) | E22: Estimated Cost * | G22: Notes (Description) | H22: Actual Cost | J22: Difference
C24: Wood Framing | E24: 0 | H24: 0 | J24: =SUM(H24-E24) -> 0
C26: Steel Framing | E26: 0 | H26: 0 | J26: =SUM(H26-E26) -> 0
C28: Other Framing | E28: 0 | H28: 0 | J28: =SUM(H28-E28) -> 0
C30: Framing Considerations | E30: 0 | H30: 0 | J30: =SUM(H30-E30) -> 0
C32: Other | E32: 0 | H32: 0 | J32: =SUM(H32-E32) -> 0
C34: Other | E34: 0 | H34: 0 | J34: =SUM(H34-E34) -> 0
C37: Total Estimated Cost: | E37: =SUM(E24:E34) -> 0 | H37: =SUM(H24:H36) -> 0 | J37: =SUM(J24:J34) -> 0
C40: * Based on home style and sq. footage

Sheet Roofing
B1: Roofing | G1: return to home specs
B3: refer to specification plan: page 11
C5: Type Roofing (select) | E5: Estimated Cost | G5: Notes (Description) | H5: Actual Cost | J5: Difference
C7: Cedar Shingles | E7: 0 | H7: 0 | J7: =SUM(H7-E7) -> 0
C9: Asphalt Shingles | E9: 0 | H9: 0 | J9: =SUM(H9-E9) -> 0
C11: Metal Roofing | E11: 0 | H11: 0 | J11: =SUM(H11-E11) -> 0
C13: Ceramic Tiles | E13: 0 | H13: 0 | J13: =SUM(H13-E13) -> 0
C15: Other: | E15: 0 | H15: 0 | J15: =SUM(H15-E15) -> 0
C18: Estimated Cost Selection: | E18: =SUM(E7:E15) -> 0 | H18: =SUM(H7:H15) -> 0 | J18: =SUM(J7:J15) -> 0
C22: Roofing Extras | E22: Estimated Cost | G22: Notes (Description) | H22: Actual Cost | J22: Difference
C24: Solar Roofing | E24: 0 | H24: 0 | J24: =SUM(H24-E24) -> 0
C26: Weather Roofing | E26: 0 | H26: 0 | J26: =SUM(H26-E26) -> 0
C29: Estimated Cost Selection: | E29: =SUM(E24:E26) -> 0 | H29: =SUM(H24:H26) -> 0 | J29: =SUM(J24:J26) -> 0
C33: Rain Removal Systems | E33: Estimated Cost | G33: Notes (Description) | H33: Actual Cost | J33: Difference
C35: Gutter Systems | E35: 0 | H35: 0 | J35: =SUM(H35-E35) -> 0
C37: Spouts / Guards | E37: 0 | H37: 0 | J37: =SUM(H37-E37) -> 0
C40: Estimated Cost Selection: | E40: =SUM(E35:E36) -> 0 | H40: =SUM(H35:H37) -> 0 | J40: =SUM(J35:J37) -> 0
C44: Other Roofing | E44: Estimated Cost | G44: Notes (Description) | H44: Actual Cost | J44: Difference
C46: Other | E46: 0 | H46: 0 | J46: =SUM(H46-E46) -> 0
C48: Other | E48: 0 | H48: 0 | J48: =SUM(H48-E48) -> 0
C51: Estimated Cost Selection: | E51: =SUM(E46:E48) -> 0 | H51: =SUM(H46:H48) -> 0 | J51: =SUM(J46:J48) -> 0
C56: Total Estimated Cost: | E56: =SUM(E18,E29,E40,E51) -> 0 | H56: =SUM(H18,H29,H40,H51) -> 0 | J56: =SUM(J18,J29,J40,J51) -> 0

Sheet Doors
B1: Doors | F1: return to home specs
B3: refer to specification plan: page 17
C5: Room | D5: Room Location | F5: Door Type | G5: Material Cost | I5: Install Cost | K5: Total Estimate | M5: Notes | N5: Actual Cost | P5: Difference
C7: Example: | D7: Against Rear Wall | F7: French Door | G7: Cost of Door | I7: Cost of Installation | K7: Total Est. Cost | M7: Any Descriptions or Notes
C9: Entry Way / Foyer | G9: 0 | I9: 0 | K9: =SUM(G9:I9) -> 0 | N9: 0 | P9: =SUM(N9-K9) -> 0
C10: Hall | G10: 0 | I10: 0 | K10: =SUM(G10:I10) -> 0 | N10: 0 | P10: =SUM(N10-K10) -> 0
C11: Living Room | G11: 0 | I11: 0 | K11: =SUM(G11:I11) -> 0 | N11: 0 | P11: =SUM(N11-K11) -> 0
C12: Dining Room | G12: 0 | I12: 0 | K12: =SUM(G12:I12) -> 0 | N12: 0 | P12: =SUM(N12-K12) -> 0
C13: Kitchen | G13: 0 | I13: 0 | K13: =SUM(G13:I13) -> 0 | N13: 0 | P13: =SUM(N13-K13) -> 0
C14: Breakfast | G14: 0 | I14: 0 | K14: =SUM(G14:I14) -> 0 | N14: 0 | P14: =SUM(N14-K14) -> 0
C15: Solarium | G15: 0 | I15: 0 | K15: =SUM(G15:I15) -> 0 | N15: 0 | P15: =SUM(N15-K15) -> 0
C16: Family (Great Room) | G16: 0 | I16: 0 | K16: =SUM(G16:I16) -> 0 | N16: 0 | P16: =SUM(N16-K16) -> 0
C17: Den / Library | G17: 0 | I17: 0 | K17: =SUM(G17:I17) -> 0 | N17: 0 | P17: =SUM(N17-K17) -> 0
C18: Recreation / Music Room | G18: 0 | I18: 0 | K18: =SUM(G18:I18) -> 0 | N18: 0 | P18: =SUM(N18-K18) -> 0
C19: Powder Room | G19: 0 | I19: 0 | K19: =SUM(G19:I19) -> 0 | N19: 0 | P19: =SUM(N19-K19) -> 0
C20: Mud (Laundry Room) | G20: 0 | I20: 0 | K20: =SUM(G20:I20) -> 0 | N20: 0 | P20: =SUM(N20-K20) -> 0
... C43: Garage | G43: 0 | I43: 0 | K43: =SUM(G43:I43) -> 0 | N43: 0 | P43: =SUM(N43-K43) -> 0
C46: Total Estimated Cost | K46: =SUM(K9:K43) -> 0 | N46: =SUM(N9:N43) -> 0 | P46: =SUM(P9:P43) -> 0

Sheet Windows
B1: Windows | F1: return to home specs
B3: refer to specification plan: page 17
C5: Room | D5: Room Location | F5: Window Type | G5: Material Cost | I5: Install Cost | K5: Total Estimate | M5: Notes | N5: Actual Cost | P5: Difference
C7: Example: | D7: Against Rear Wall | F7: Bay Window | G7: Cost of Window | I7: Cost of Installation | K7: Total Est. Cost | M7: Any Descriptions or Notes
C9: Entry Way / Foyer | G9: 0 | I9: 0 | K9: =SUM(G9:I9) -> 0 | N9: 0 | P9: =SUM(N9-K9) -> 0
C10: Hall | G10: 0 | I10: 0 | K10: =SUM(G10:I10) -> 0 | N10: 0 | P10: =SUM(N10-K10) -> 0
C11: Living Room | G11: 0 | I11: 0 | K11: =SUM(G11:I11) -> 0 | N11: 0 | P11: =SUM(N11-K11) -> 0
C12: Dining Room | G12: 0 | I12: 0 | K12: =SUM(G12:I12) -> 0 | N12: 0 | P12: =SUM(N12-K12) -> 0
C13: Kitchen | G13: 0 | I13: 0 | K13: =SUM(G13:I13) -> 0 | N13: 0 | P13: =SUM(N13-K13) -> 0
C14: Breakfast | G14: 0 | I14: 0 | K14: =SUM(G14:I14) -> 0 | N14: 0 | P14: =SUM(N14-K14) -> 0
C15: Solarium | G15: 0 | I15: 0 | K15: =SUM(G15:I15) -> 0 | N15: 0 | P15: =SUM(N15-K15) -> 0
C16: Family (Great Room) | G16: 0 | I16: 0 | K16: =SUM(G16:I16) -> 0 | N16: 0 | P16: =SUM(N16-K16) -> 0
C17: Den / Library | G17: 0 | I17: 0 | K17: =SUM(G17:I17) -> 0 | N17: 0 | P17: =SUM(N17-K17) -> 0
C18: Recreation / Music Room | G18: 0 | I18: 0 | K18: =SUM(G18:I18) -> 0 | N18: 0 | P18: =SUM(N18-K18) -> 0
C19: Powder Room | G19: 0 | I19: 0 | K19: =SUM(G19:I19) -> 0 | N19: 0 | P19: =SUM(N19-K19) -> 0
C20: Mud (Laundry Room) | G20: 0 | I20: 0 | K20: =SUM(G20:I20) -> 0 | N20: 0 | P20: =SUM(N20-K20) -> 0
... C43: Garage | G43: 0 | I43: 0 | K43: =SUM(G43:I43) -> 0 | N43: 0 | P43: =SUM(N43-K43) -> 0
C46: Total Estimated Cost | K46: =SUM(K9:K43) -> 0 | N46: =SUM(N9:N43) -> 0 | P46: =SUM(P9:P43) -> 0

Sheet Plumbing
B1: Plumbing | F1: return to home specs
B3: refer to specification plan: page 17
C5: Room | D5: Room Location | F5: Plumbing Need | G5: Material Cost | I5: Install Cost | K5: Total Estimate | M5: Notes | N5: Actual Cost | P5: Difference
C7: Example: | D7: In Southwest corner | F7: Utility Sink | G7: Cost of Plumbing | I7: Cost of Installation | K7: Total Est. Cost | M7: Any Descriptions or Notes
C9: Entry Way / Foyer | G9: 0 | I9: 0 | K9: =SUM(G9:I9) -> 0 | N9: 0 | P9: =SUM(N9-K9) -> 0
C10: Hall | G10: 0 | I10: 0 | K10: =SUM(G10:I10) -> 0 | N10: 0 | P10: =SUM(N10-K10) -> 0
C11: Living Room | G11: 0 | I11: 0 | K11: =SUM(G11:I11) -> 0 | N11: 0 | P11: =SUM(N11-K11) -> 0
C12: Dining Room | G12: 0 | I12: 0 | K12: =SUM(G12:I12) -> 0 | N12: 0 | P12: =SUM(N12-K12) -> 0
C13: Kitchen | G13: 0 | I13: 0 | K13: =SUM(G13:I13) -> 0 | N13: 0 | P13: =SUM(N13-K13) -> 0
C14: Breakfast | G14: 0 | I14: 0 | K14: =SUM(G14:I14) -> 0 | N14: 0 | P14: =SUM(N14-K14) -> 0
C15: Solarium | G15: 0 | I15: 0 | K15: =SUM(G15:I15) -> 0 | N15: 0 | P15: =SUM(N15-K15) -> 0
C16: Family (Great Room) | G16: 0 | I16: 0 | K16: =SUM(G16:I16) -> 0 | N16: 0 | P16: =SUM(N16-K16) -> 0
C17: Den / Library | G17: 0 | I17: 0 | K17: =SUM(G17:I17) -> 0 | N17: 0 | P17: =SUM(N17-K17) -> 0
C18: Recreation / Music Room | G18: 0 | I18: 0 | K18: =SUM(G18:I18) -> 0 | N18: 0 | P18: =SUM(N18-K18) -> 0
C19: Powder Room | G19: 0 | I19: 0 | K19: =SUM(G19:I19) -> 0 | N19: 0 | P19: =SUM(N19-K19) -> 0
C20: Mud (Laundry Room) | G20: 0 | I20: 0 | K20: =SUM(G20:I20) -> 0 | N20: 0 | P20: =SUM(N20-K20) -> 0
... C43: Garage | G43: 0 | I43: 0 | K43: =SUM(G43:I43) -> 0 | N43: 0 | P43: =SUM(N43-K43) -> 0
C46: Total Estimated Cost | K46: =SUM(K9:K43) -> 0 | N46: =SUM(N9:N43) -> 0 | P46: =SUM(P9:P43) -> 0

Sheet Electrical
B1: Electrical Wiring | F1: return to home specs
B3: refer to specification plan: page 22
C5: Room | D5: Room Location | F5: Wiring Need | G5: Material Cost | I5: Install Cost | K5: Total Estimate | M5: Notes | N5: Actual Cost | P5: Difference
C7: Example | D7: Over the Fireplace Mantel | F7: Entertainment Center | G7: Cost of Electrical | I7: Cost of Installation | K7: Total Est. Cost | M7: Any Descriptions or Notes
C9: Entry Way / Foyer | G9: 0 | I9: 0 | K9: =SUM(G9:I9) -> 0 | N9: 0 | P9: =SUM(N9-K9) -> 0
C10: Hall | G10: 0 | I10: 0 | K10: =SUM(G10:I10) -> 0 | N10: 0 | P10: =SUM(N10-K10) -> 0
C11: Living Room | G11: 0 | I11: 0 | K11: =SUM(G11:I11) -> 0 | N11: 0 | P11: =SUM(N11-K11) -> 0
C12: Dining Room | G12: 0 | I12: 0 | K12: =SUM(G12:I12) -> 0 | N12: 0 | P12: =SUM(N12-K12) -> 0
C13: Kitchen | G13: 0 | I13: 0 | K13: =SUM(G13:I13) -> 0 | N13: 0 | P13: =SUM(N13-K13) -> 0
C14: Breakfast | G14: 0 | I14: 0 | K14: =SUM(G14:I14) -> 0 | N14: 0 | P14: =SUM(N14-K14) -> 0
C15: Solarium | G15: 0 | I15: 0 | K15: =SUM(G15:I15) -> 0 | N15: 0 | P15: =SUM(N15-K15) -> 0
C16: Family (Great Room) | G16: 0 | I16: 0 | K16: =SUM(G16:I16) -> 0 | N16: 0 | P16: =SUM(N16-K16) -> 0
C17: Den / Library | G17: 0 | I17: 0 | K17: =SUM(G17:I17) -> 0 | N17: 0 | P17: =SUM(N17-K17) -> 0
C18: Recreation / Music Room | G18: 0 | I18: 0 | K18: =SUM(G18:I18) -> 0 | N18: 0 | P18: =SUM(N18-K18) -> 0
C19: Powder Room | G19: 0 | I19: 0 | K19: =SUM(G19:I19) -> 0 | N19: 0 | P19: =SUM(N19-K19) -> 0
C20: Mud (Laundry Room) | G20: 0 | I20: 0 | K20: =SUM(G20:I20) -> 0 | N20: 0 | P20: =SUM(N20-K20) -> 0
... C43: Garage | G43: 0 | I43: 0 | K43: =SUM(G43:I43) -> 0 | N43: 0 | P43: =SUM(N43-K43) -> 0
C46: Total Estimated Cost | K46: =SUM(K9:K43) -> 0 | N46: =SUM(N9:N43) -> 0 | P46: =SUM(P9:P43) -> 0

Sheet HVAC
B1: HVAC - Water Heating | F1: return to home specs
B3: refer to specification plan: page 25
C5: Heating System (select) | D5: Estimated Cost | F5: Notes (Description) | G5: Actural Cost | I5: Difference
C7: Electrical | D7: 0 | G7: 0 | I7: =SUM(G7-D7) -> 0
C9: Natural Gas | D9: 0 | G9: 0 | I9: =SUM(G9-D9) -> 0
C11: Oil | D11: 0 | G11: 0 | I11: =SUM(G11-D11) -> 0
C13: Propane | D13: 0 | G13: 0 | I13: =SUM(G13-D13) -> 0
C15: Geothermal | D15: 0 | G15: 0 | I15: =SUM(G15-D15) -> 0
C17: Wood - Coal | D17: 0 | G17: 0 | I17: =SUM(G17-D17) -> 0
C19: Other | D19: 0 | G19: 0 | I19: =SUM(G19-D19) -> 0
C21: Enter Cost Selection: | D21: =SUM(D7:D19) -> 0
G22: =SUM(G7:G19) -> 0 | I22: =SUM(I7:I19) -> 0
C24: Cooling Systems (select) | D24: Estimated Cost | F24: Notes (Description) | G24: Actual Cost | I24: Difference
C26: Central Air System | D26: 0 | G26: 0 | I26: =SUM(G26-D26) -> 0
C28: Central Pump | D28: 0 | G28: 0 | I28: =SUM(G28-D28) -> 0
C30: Room Units | D30: 0 | G30: 0 | I30: =SUM(G30-D30) -> 0
C32: Other | D32: 0 | G32: 0 | I32: =SUM(G32-D32) -> 0
C34: Enter Cost Selection: | D34: =SUM(D26:D32) -> 0 | G34: =SUM(G26:G32) -> 0 | I34: =SUM(I26:I32) -> 0
C37: Alternative Systems | D37: Estimated Cost | F37: Notes (Description) | G37: Actual Cost | I37: Difference
C39: Solar | D39: 0 | G39: 0 | I39: =SUM(G39-D39) -> 0
C41: Wind | D41: 0 | G41: 0 | I41: =SUM(G41-D41) -> 0
C43: Other | D43: 0 | G43: 0 | I43: =SUM(G43-D43) -> 0
C45: Enter Cost Selection: | D45: =SUM(D39:D43) -> 0 | G45: =SUM(G39:G43) -> 0 | I45: =SUM(I39:I43) -> 0
C48: Control Systems | D48: Estimated Cost | F48: Notes (Description) | G48: Actual Cost | I48: Difference
C50: Programmable | D50: 0 | G50: 0 | I50: =SUM(G50-D50) -> 0
C52: Other | D52: 0 | G52: 0 | I52: =SUM(G52-D52) -> 0
C54: Enter Cost Selection: | D54: =SUM(D50:D52) -> 0 | G54: =SUM(G50:G52) -> 0 | I54: =SUM(I50:I52) -> 0
C57: Air Quality Systems | D57: Estimated Cost | F57: Notes (Description) | G57: Actual Cost | I57: Difference
C59: Humidifier | D59: 0 | G59: 0 | I59: =SUM(G59-D59) -> 0
C61: Dehumidifier | D61: 0 | G61: 0 | I61: =SUM(G61-D61) -> 0
C63: Air Filtration | D63: 0 | G63: 0 | I63: =SUM(G63-D63) -> 0
C65: Other | D65: 0 | G65: 0 | I65: =SUM(G65-D65) -> 0
C67: Enter Cost Selection: | D67: =SUM(D59:D65) -> 0 | G67: =SUM(G59:G65) -> 0 | I67: =SUM(I59:I65) -> 0
C70: Distribution Systems | D70: Estimated Cost | F70: Notes (Description) | G70: Actual Cost | I70: Difference
C72: Duct System | D72: 0 | G72: 0 | I72: =SUM(G72-D72) -> 0
C74: Radiator | D74: 0 | G74: 0 | I74: =SUM(G74-D74) -> 0
C76: Other | D76: 0 | G76: 0 | I76: =SUM(G76-D76) -> 0
C78: Enter Cost Selection: | D78: =SUM(D72:D76) -> 0 | G78: =SUM(G72:G76) -> 0 | I78: =SUM(I72:I76) -> 0
C81: Water Heating Systems | D81: Estimated Cost | F81: Notes (Description) | G81: Actual Cost | I81: Difference
C83: Storage Water Heaters | D83: 0 | G83: 0 | I83: =SUM(G83-D83) -> 0
C85: Tankless Water Heaters | D85: 0 | G85: 0 | I85: =SUM(G85-D85) -> 0
C87: Heat Pump Water Heaters | D87: 0 | G87: 0 | I87: =SUM(G87-D87) -> 0
C89: Demand Water Heaters | D89: 0 | G89: 0 | I89: =SUM(G89-D89) -> 0
C91: Solar Water Heaters | D91: 0 | G91: 0 | I91: =SUM(G91-D91) -> 0
C93: Other | D93: 0 | G93: 0 | I93: =SUM(G93-D93) -> 0
C95: Enter Cost Selection: | D95: =SUM(D83:D92) -> 0 | G95: =SUM(G83:G93) -> 0 | I95: =SUM(I83:I93) -> 0
C100: Total Estimated Cost: | D100: =SUM(D95,D78,D67,D54,D45,D34,D21,) -> 0 | G100: =SUM(G22,G34,G45,G54,G67,G78,G95) -> 0 | I100: =SUM(I22,I34,I45,I54,I67,I78,I95) -> 0

Sheet Weather
B1: Weatherization and Insulation | F1: return to home specs
B3: refer to specification plan: page 25
C5: Insulation (select) | D5: Estimated Cost | F5: Notes (Description) | G5: Actual Cost | I5: Difference
C7: Fiber Glass | D7: 0 | G7: 0 | I7: =SUM(G7-D7) -> 0
C9: Spray Form | D9: 0 | G9: 0 | I9: =SUM(G9-D9) -> 0
C11: Weather Stripping | D11: 0 | G11: 0 | I11: =SUM(G11-D11) -> 0
C13: Other | D13: 0 | G13: 0 | I13: =SUM(G13-D13) -> 0
C15: Other | D15: 0 | G15: 0 | I15: =SUM(G15-D15) -> 0
C17: Cost Selection: | D17: =SUM(D7:D15) -> 0 | G17: =SUM(G7:G15) -> 0 | I17: =SUM(I7:I15) -> 0
C21: Insulation Projects | D21: Estimated Cost | F21: Notes (Description) | G21: Actual Cost | I21: Difference
C23: Unfinished Attic | D23: 0 | F23: Description (R-Value): | G23: 0 | I23: =SUM(G23-D23) -> 0
C25: Finished Attic | D25: 0 | F25: Description (R-Value): | G25: 0 | I25: =SUM(G25-D25) -> 0
C27: Basement Walls | D27: 0 | F27: Description (R-Value): | G27: 0 | I27: =SUM(G27-D27) -> 0
C29: Cathedral Ceilings | D29: 0 | F29: Description (R-Value): | G29: 0 | I29: =SUM(G29-D29) -> 0
C31: Crawlspace Heated | D31: 0 | F31: Description (R-Value): | G31: 0 | I31: =SUM(G31-D31) -> 0
C33: Under Crawlspace | D33: 0 | F33: Description (R-Value): | G33: 0 | I33: =SUM(G33-D33) -> 0
C35: Exterior Walls | D35: 0 | F35: Description (R-Value): | G35: 0 | I35: =SUM(G35-D35) -> 0
C37: Floors | D37: 0 | F37: Description (R-Value): | G37: 0 | I37: =SUM(G37-D37) -> 0
C39: Foundation Walls | D39: 0 | F39: Description (R-Value): | G39: 0 | I39: =SUM(G39-D39) -> 0
C41: Under Slab | D41: 0 | F41: Description (R-Value): | G41: 0 | I41: =SUM(G41-D41) -> 0
C43: HVAC Ducts | D43: 0 | F43: Description (R-Value): | G43: 0 | I43: =SUM(G43-D43) -> 0
C45: Interior Noise Control | D45: 0 | F45: Description (R-Value): | G45: 0 | I45: =SUM(G45-D45) -> 0
... C51: Other | D51: 0 | F51: Description (R-Value): | G51: 0 | I51: =SUM(G51-D51) -> 0
C53: Cost Selection: | D53: =SUM(D23:D51) -> 0 | G53: =SUM(G23:G51) -> 0 | I53: =SUM(I23:I51) -> 0
C57: Total Estimated Cost: | D57: =SUM(D17,D53) -> 0 | G57: =SUM(G53,G17) -> 0 | I57: =SUM(I17,I53) -> 0

Sheet Exterior
B1: Exterior Home | F1: return to home specs
B3: refer to specification plan: page 11
C5: Front Facing | D5: Estimated Cost | F5: Notes (Description) | G5: Actual Cost | I5: Difference
C7: Vinyl / Aluminum | D7: 0 | G7: 0 | I7: =SUM(G7-D7) -> 0
C9: Wood Shingles / Panel | D9: 0 | G9: 0 | I9: =SUM(G9-D9) -> 0
C11: Brick Facing | D11: 0 | G11: 0 | I11: =SUM(G11-D11) -> 0
C13: Stone Masonry | D13: 0 | G13: 0 | I13: =SUM(G13-D13) -> 0
C15: Shutters | D15: 0 | G15: 0 | I15: =SUM(G15-D15) -> 0
C17: Décor | D17: 0 | G17: 0 | I17: =SUM(G17-D17) -> 0
C19: Other | D19: 0 | G19: 0 | I19: =SUM(G19-D19) -> 0
C21: Other | D21: 0 | G21: 0 | I21: =SUM(G21-D21) -> 0
C23: Cost Selection: | D23: =SUM(D7:D21) -> 0 | G23: =SUM(G7:G19) -> 0 | I23: =SUM(I7:I17) -> 0
C26: Side Facing | D26: Estimated Cost | F26: Notes (Description) | G26: Actual Cost | I26: Difference
C28: Vinyl / Aluminum | D28: 0 | G28: 0 | I28: =SUM(G28-D28) -> 0
C30: Wood Shingles / Panel | D30: 0 | G30: 0 | I30: =SUM(G30-D30) -> 0
C32: Brick Facing | D32: 0 | G32: 0 | I32: =SUM(G32-D32) -> 0
C34: Stone Masonry | D34: 0 | G34: 0 | I34: =SUM(G34-D34) -> 0
C36: Shutters | D36: 0 | G36: 0 | I36: =SUM(G36-D36) -> 0
C38: Décor | D38: 0 | G38: 0 | I38: =SUM(G38-D38) -> 0
C40: Other | D40: 0 | G40: 0 | I40: =SUM(G40-D40) -> 0
C42: Other | D42: 0 | G42: 0 | I42: =SUM(G42-D42) -> 0
C44: Cost Selection: | D44: =SUM(D28:D42) -> 0 | G44: =SUM(G28:G40) -> 0 | I44: =SUM(I28:I38) -> 0
C47: Rear Facing | D47: Estimated Cost | F47: Notes (Description) | G47: Actual Cost | I47: Difference
C49: Vinyl / Aluminum | D49: 0 | G49: 0 | I49: =SUM(G49-D49) -> 0
C51: Wood Shingles / Panel | D51: 0 | G51: 0 | I51: =SUM(G51-D51) -> 0
C53: Brick Facing | D53: 0 | G53: 0 | I53: =SUM(G53-D53) -> 0
C55: Stone Masonry | D55: 0 | G55: 0 | I55: =SUM(G55-D55) -> 0
C57: Shutters | D57: 0 | G57: 0 | I57: =SUM(G57-D57) -> 0
C59: Décor | D59: 0 | G59: 0 | I59: =SUM(G59-D59) -> 0
C61: Other | D61: 0 | G61: 0 | I61: =SUM(G61-D61) -> 0
C63: Other | D63: 0 | G63: 0 | I63: =SUM(G63-D63) -> 0
C65: Cost Selection: | D65: =SUM(D49:D63) -> 0 | G65: =SUM(G49:G61) -> 0 | I65: =SUM(I49:I59) -> 0
C68: Detached Garage | D68: Estimated Cost | F68: Notes (Description) | G68: Actual Cost | I68: Difference
C70: Vinyl / Aluminum | D70: 0 | G70: 0 | I70: =SUM(G70-D70) -> 0
C72: Wood Shingles / Panel | D72: 0 | G72: 0 | I72: =SUM(G72-D72) -> 0
C74: Brick Facing | D74: 0 | G74: 0 | I74: =SUM(G74-D74) -> 0
C76: Stone Masonry | D76: 0 | G76: 0 | I76: =SUM(G76-D76) -> 0
C78: Shutters | D78: 0 | G78: 0 | I78: =SUM(G78-D78) -> 0
C80: Décor | D80: 0 | G80: 0 | I80: =SUM(G80-D80) -> 0
C82: Other | D82: 0 | G82: 0 | I82: =SUM(G82-D82) -> 0
C84: Other | D84: 0 | G84: 0 | I84: =SUM(G84-D84) -> 0
C86: Cost Selection: | D86: =SUM(D70:D84) -> 0 | G86: =SUM(G70:G82) -> 0 | I86: =SUM(I70:I80) -> 0
C89: Sheds - Out Buildings | D89: Estimated Cost | F89: Notes (Description) | G89: Actual Cost | I89: Difference
C91: Vinyl / Aluminum | D91: 0 | G91: 0 | I91: =SUM(G91-D91) -> 0
C93: Wood Shingles / Panel | D93: 0 | G93: 0 | I93: =SUM(G93-D93) -> 0
C95: Brick Facing | D95: 0 | G95: 0 | I95: =SUM(G95-D95) -> 0
C97: Stone Masonry | D97: 0 | G97: 0 | I97: =SUM(G97-D97) -> 0
C99: Shutters | D99: 0 | G99: 0 | I99: =SUM(G99-D99) -> 0
C101: Décor | D101: 0 | G101: 0 | I101: =SUM(G101-D101) -> 0
C103: Other | D103: 0 | G103: 0 | I103: =SUM(G103-D103) -> 0
C105: Other | D105: 0 | G105: 0 | I105: =SUM(G105-D105) -> 0
C107: Cost Selection: | D107: =SUM(D91:D105) -> 0 | G107: =SUM(G91:G103) -> 0 | I107: =SUM(I91:I101) -> 0
C110: Other Structure | D110: Estimated Cost | F110: Notes (Description) | G110: Actual Cost | I110: Difference
C112: Vinyl / Aluminum | D112: 0 | G112: 0 | I112: =SUM(G112-D112) -> 0
C114: Wood Shingles / Panel | D114: 0 | G114: 0 | I114: =SUM(G114-D114) -> 0
C116: Brick Facing | D116: 0 | G116: 0 | I116: =SUM(G116-D116) -> 0
C118: Stone Masonry | D118: 0 | G118: 0 | I118: =SUM(G118-D118) -> 0
C120: Shutters | D120: 0 | G120: 0 | I120: =SUM(G120-D120) -> 0
C122: Décor | D122: 0 | G122: 0 | I122: =SUM(G122-D122) -> 0
C124: Other | D124: 0 | G124: 0 | I124: =SUM(G124-D124) -> 0
C126: Other | D126: 0 | G126: 0 | I126: =SUM(G126-D126) -> 0
C128: Cost Selection: | D128: =SUM(D112:D126) -> 0 | G128: =SUM(G112:G124) -> 0 | I128: =SUM(I112:I122) -> 0
C132: Total Estimated Cost: | D132: =SUM(D128,D107,D86,D65,D44,D23,) -> 0 | G132: =SUM(G128,G107,G86,G65,G44,G23,) -> 0 | I132: =SUM(I128,I107,I86,I65,I44,I23,) -> 0

Sheet Walls
B1: Walls | F1: return to home specs
B3: refer to specification plan: page 28
C5: Room | D5: Room Location | F5: Wall Type | G5: Material Cost | I5: Install Cost | K5: Total Estimate | M5: Notes | N5: Actual Cost | P5: Difference
C7: Example: | D7: Outside Wall | F7: Wall Paper | G7: Cost of Wall | I7: Cost of Installation | K7: Total Est. Cost | M7: Any Descriptions or Notes
C9: Entry Way / Foyer | G9: 0 | I9: 0 | K9: =SUM(G9:I9) -> 0 | N9: 0 | P9: =SUM(N9-K9) -> 0
C10: Hall | G10: 0 | I10: 0 | K10: =SUM(G10:I10) -> 0 | N10: 0 | P10: =SUM(N10-K10) -> 0
C11: Living Room | G11: 0 | I11: 0 | K11: =SUM(G11:I11) -> 0 | N11: 0 | P11: =SUM(N11-K11) -> 0
C12: Dining Room | G12: 0 | I12: 0 | K12: =SUM(G12:I12) -> 0 | N12: 0 | P12: =SUM(N12-K12) -> 0
C13: Kitchen | G13: 0 | I13: 0 | K13: =SUM(G13:I13) -> 0 | N13: 0 | P13: =SUM(N13-K13) -> 0
C14: Breakfast | G14: 0 | I14: 0 | K14: =SUM(G14:I14) -> 0 | N14: 0 | P14: =SUM(N14-K14) -> 0
C15: Solarium | G15: 0 | I15: 0 | K15: =SUM(G15:I15) -> 0 | N15: 0 | P15: =SUM(N15-K15) -> 0
C16: Family (Great Room) | G16: 0 | I16: 0 | K16: =SUM(G16:I16) -> 0 | N16: 0 | P16: =SUM(N16-K16) -> 0
C17: Den / Library | G17: 0 | I17: 0 | K17: =SUM(G17:I17) -> 0 | N17: 0 | P17: =SUM(N17-K17) -> 0
C18: Recreation / Music Room | G18: 0 | I18: 0 | K18: =SUM(G18:I18) -> 0 | N18: 0 | P18: =SUM(N18-K18) -> 0
C19: Powder Room | G19: 0 | I19: 0 | K19: =SUM(G19:I19) -> 0 | N19: 0 | P19: =SUM(N19-K19) -> 0
C20: Mud (Laundry Room) | G20: 0 | I20: 0 | K20: =SUM(G20:I20) -> 0 | N20: 0 | P20: =SUM(N20-K20) -> 0
... C43: Garage | G43: 0 | I43: 0 | K43: =SUM(G43:I43) -> 0 | N43: 0 | P43: =SUM(N43-K43) -> 0
C46: Total Estimated Cost | K46: =SUM(K9:K43) -> 0 | N46: =SUM(N9:N43) -> 0 | P46: =SUM(P9:P43) -> 0

Sheet Ceilings
B1: Ceilings and Trim | F1: return to home specs
B3: refer to specification plan: page 28
C5: Room | D5: Room Location | F5: Ceiling - Trim Type | G5: Material Cost | I5: Install Cost | K5: Total Estimate | M5: Notes | N5: Actual Cost | P5: Difference
C7: Example: | D7: Type Room | F7: Tray Ceiling | G7: Cost of Ceiling | I7: Cost of Installation | K7: Total Est. Cost | M7: Any Descriptions or Notes
C9: Entry Way / Foyer | G9: 0 | I9: 0 | K9: =SUM(G9:I9) -> 0 | N9: 0 | P9: =SUM(N9-K9) -> 0
C10: Hall | G10: 0 | I10: 0 | K10: =SUM(G10:I10) -> 0 | N10: 0 | P10: =SUM(N10-K10) -> 0
C11: Living Room | G11: 0 | I11: 0 | K11: =SUM(G11:I11) -> 0 | N11: 0 | P11: =SUM(N11-K11) -> 0
C12: Dining Room | G12: 0 | I12: 0 | K12: =SUM(G12:I12) -> 0 | N12: 0 | P12: =SUM(N12-K12) -> 0
C13: Kitchen | G13: 0 | I13: 0 | K13: =SUM(G13:I13) -> 0 | N13: 0 | P13: =SUM(N13-K13) -> 0
C14: Breakfast | G14: 0 | I14: 0 | K14: =SUM(G14:I14) -> 0 | N14: 0 | P14: =SUM(N14-K14) -> 0
C15: Solarium | G15: 0 | I15: 0 | K15: =SUM(G15:I15) -> 0 | N15: 0 | P15: =SUM(N15-K15) -> 0
C16: Family (Great Room) | G16: 0 | I16: 0 | K16: =SUM(G16:I16) -> 0 | N16: 0 | P16: =SUM(N16-K16) -> 0
C17: Den / Library | G17: 0 | I17: 0 | K17: =SUM(G17:I17) -> 0 | N17: 0 | P17: =SUM(N17-K17) -> 0
C18: Recreation / Music Room | G18: 0 | I18: 0 | K18: =SUM(G18:I18) -> 0 | N18: 0 | P18: =SUM(N18-K18) -> 0
C19: Powder Room | G19: 0 | I19: 0 | K19: =SUM(G19:I19) -> 0 | N19: 0 | P19: =SUM(N19-K19) -> 0
C20: Mud (Laundry Room) | G20: 0 | I20: 0 | K20: =SUM(G20:I20) -> 0 | N20: 0 | P20: =SUM(N20-K20) -> 0
... C43: Garage | G43: 0 | I43: 0 | K43: =SUM(G43:I43) -> 0 | N43: 0 | P43: =SUM(N43-K43) -> 0
C46: Total Estimated Cost | K46: =SUM(K9:K43) -> 0 | N46: =SUM(N9:N43) -> 0 | P46: =SUM(P9:P43) -> 0

Sheet Kitchen
B1: Kitchen | K1: return to home specs
B3: refer to specification plan: page 33
C5: Kitchen Design | D5: Type (model-style-etc.) | E5: Material Cost | G5: Install Cost | I5: Total Estimate | K5: Notes | L5: Actual Cost | N5: Difference
C7: Cabinets | E7: 0 | G7: 0 | I7: =SUM(E7:G7) -> 0 | L7: 0 | N7: =SUM(L7-I7) -> 0
C9: Lazy Susan | E9: 0 | G9: 0 | I9: =SUM(E9:G9) -> 0 | L9: 0 | N9: =SUM(L9-I9) -> 0
C11: Drawers Size | E11: 0 | G11: 0 | I11: =SUM(E11:G11) -> 0 | L11: 0 | N11: =SUM(L11-I11) -> 0
C13: Counter Tops | E13: 0 | G13: 0 | I13: =SUM(E13:G13) -> 0 | L13: 0 | N13: =SUM(L13-I13) -> 0
C15: Seating Area | E15: 0 | G15: 0 | I15: =SUM(E15:G15) -> 0 | L15: 0 | N15: =SUM(L15-I15) -> 0
C17: Islands | E17: 0 | G17: 0 | I17: =SUM(E17:G17) -> 0 | L17: 0 | N17: =SUM(L17-I17) -> 0
C19: Sinks | E19: 0 | G19: 0 | I19: =SUM(E19:G19) -> 0 | L19: 0 | N19: =SUM(L19-I19) -> 0
C21: Faucets / Fittings | E21: 0 | G21: 0 | I21: =SUM(E21:G21) -> 0 | L21: 0 | N21: =SUM(L21-I21) -> 0
C23: Sink Appliances | E23: 0 | G23: 0 | I23: =SUM(E23:G23) -> 0 | L23: 0 | N23: =SUM(L23-I23) -> 0
C25: Pantry / Storage | E25: 0 | G25: 0 | I25: =SUM(E25:G25) -> 0 | L25: 0 | N25: =SUM(L25-I25) -> 0
C27: Open Shelving | E27: 0 | G27: 0 | I27: =SUM(E27:G27) -> 0 | L27: 0 | N27: =SUM(L27-I27) -> 0
C29: Wine Storage | E29: 0 | G29: 0 | I29: =SUM(E29:G29) -> 0 | L29: 0 | N29: =SUM(L29-I29) -> 0
C31: Other | E31: 0 | G31: 0 | I31: =SUM(E31:G31) -> 0 | L31: 0 | N31: =SUM(L31-I31) -> 0
C33: Cost Selection: | I33: =SUM(I7:I31) -> 0 | L33: =SUM(L7:L31) -> 0 | N33: =SUM(N7:N31) -> 0
C36: Kitchen Appliances | D36: Type (model-style-etc.) | E36: Metarial Cost | G36: Install Cost | I36: Total Estimate | K36: Notes | L36: Actual Cost | N36: Difference
C38: Cooking Tops | E38: 0 | G38: 0 | I38: =SUM(E38:G38) -> 0 | L38: 0 | N38: =SUM(L38-I38) -> 0
C40: Cooking Ranges | E40: 0 | G40: 0 | I40: =SUM(E40:G40) -> 0 | L40: 0 | N40: =SUM(L40-I40) -> 0
C42: Microwave Ovens | E42: 0 | G42: 0 | I42: =SUM(E42:G42) -> 0 | L42: 0 | N42: =SUM(L42-I42) -> 0
C44: Exhaust Vents / Hoods | E44: 0 | G44: 0 | I44: =SUM(E44:G44) -> 0 | L44: 0 | N44: =SUM(L44-I44) -> 0
C46: Dishwasher | E46: 0 | G46: 0 | I46: =SUM(E46:G46) -> 0 | L46: 0 | N46: =SUM(L46-I46) -> 0
C48: Trash Compactors | E48: 0 | G48: 0 | I48: =SUM(E48:G48) -> 0 | L48: 0 | N48: =SUM(L48-I48) -> 0
C50: Recycle Bins | E50: 0 | G50: 0 | I50: =SUM(E50:G50) -> 0 | L50: 0 | N50: =SUM(L50-I50) -> 0
C52: Other | E52: 0 | G52: 0 | I52: =SUM(E52:G52) -> 0 | L52: 0 | N52: =SUM(L52-I52) -> 0
C54: Other | E54: 0 | G54: 0 | I54: =SUM(E54:G54) -> 0 | L54: 0 | N54: =SUM(L54-I54) -> 0
C56: Cost Selection: | I56: =SUM(I38:I54) -> 0 | L56: =SUM(L38:L54) -> 0 | N56: =SUM(N38:N54) -> 0
C61: Total Estimated Cost: | I61: =+SUM(I56,I33) -> 0 | L61: =+SUM(L56,L33) -> 0 | N61: =+SUM(N56,N33) -> 0

Sheet Bath
B1: Bath | G1: return to home specs
B3: refer to specification plan: page 33
C5: Master Bath | D5: Type (model-style-etc.) | E5: Estimated Cost | G5: Install Cost | I5: Total Estimate | K5: Notes | L5: Actual Cost | N5: Difference
C7: Bath Tub | E7: 0 | G7: 0 | I7: =SUM(E7:G7) -> 0 | L7: 0 | N7: =SUM(L7-I7) -> 0
C9: Shower | E9: 0 | G9: 0 | I9: =SUM(E9:G9) -> 0 | L9: 0 | N9: =SUM(L9-I9) -> 0
C11: Sinks | E11: 0 | G11: 0 | I11: =SUM(E11:G11) -> 0 | L11: 0 | N11: =SUM(L11-I11) -> 0
C13: Faucet / Fittings | E13: 0 | G13: 0 | I13: =SUM(E13:G13) -> 0 | L13: 0 | N13: =SUM(L13-I13) -> 0
C15: Cabinets | E15: 0 | G15: 0 | I15: =SUM(E15:G15) -> 0 | L15: 0 | N15: =SUM(L15-I15) -> 0
C17: Toilets | E17: 0 | G17: 0 | I17: =SUM(E17:G17) -> 0 | L17: 0 | N17: =SUM(L17-I17) -> 0
C19: Other Appliances | E19: 0 | G19: 0 | I19: =SUM(E19:G19) -> 0 | L19: 0 | N19: =SUM(L19-I19) -> 0
C21: Medicine Cabinets | E21: 0 | G21: 0 | I21: =SUM(E21:G21) -> 0 | L21: 0 | N21: =SUM(L21-I21) -> 0
C23: Laundry Facilities | E23: 0 | G23: 0 | I23: =SUM(E23:G23) -> 0 | L23: 0 | N23: =SUM(L23-I23) -> 0
C25: Storage Facilities | E25: 0 | G25: 0 | I25: =SUM(E25:G25) -> 0 | L25: 0 | N25: =SUM(L25-I25) -> 0
C27: Other | E27: 0 | G27: 0 | I27: =SUM(E27:G27) -> 0 | L27: 0 | N27: =SUM(L27-I27) -> 0
C29: Other | E29: 0 | G29: 0 | I29: =SUM(E29:G29) -> 0 | L29: 0 | N29: =SUM(L29-I29) -> 0
C31: Cost Selection: | E31: =SUM(E7:E29) -> 0 | G31: =SUM(G7:G29) -> 0 | I31: =SUM(I7:I29) -> 0 | L31: =SUM(L7:L29) -> 0 | N31: =SUM(N7:N29) -> 0
C34: Other Bath 1 | D34: Type (model-style-etc.) | E34: Estimated Cost | G34: Install Cost | I34: Total Estimate | K34: Notes | L34: Actual Cost | N34: Difference
C36: Bath Tub | E36: 0 | G36: 0 | I36: =SUM(E36:G36) -> 0 | L36: 0 | N36: =SUM(L36-I36) -> 0
C38: Shower | E38: 0 | G38: 0 | I38: =SUM(E38:G38) -> 0 | L38: 0 | N38: =SUM(L38-I38) -> 0
C40: Sinks | E40: 0 | G40: 0 | I40: =SUM(E40:G40) -> 0 | L40: 0 | N40: =SUM(L40-I40) -> 0
C42: Faucet / Fittings | E42: 0 | G42: 0 | I42: =SUM(E42:G42) -> 0 | L42: 0 | N42: =SUM(L42-I42) -> 0
C44: Cabinets | E44: 0 | G44: 0 | I44: =SUM(E44:G44) -> 0 | L44: 0 | N44: =SUM(L44-I44) -> 0
C46: Toilets | E46: 0 | G46: 0 | I46: =SUM(E46:G46) -> 0 | L46: 0 | N46: =SUM(L46-I46) -> 0
C48: Other Appliances | E48: 0 | G48: 0 | I48: =SUM(E48:G48) -> 0 | L48: 0 | N48: =SUM(L48-I48) -> 0
C50: Medicine Cabinets | E50: 0 | G50: 0 | I50: =SUM(E50:G50) -> 0 | L50: 0 | N50: =SUM(L50-I50) -> 0
C52: Laundry Facilities | E52: 0 | G52: 0 | I52: =SUM(E52:G52) -> 0 | L52: 0 | N52: =SUM(L52-I52) -> 0
C54: Storage Facilities | E54: 0 | G54: 0 | I54: =SUM(E54:G54) -> 0 | L54: 0 | N54: =SUM(L54-I54) -> 0
C56: Other | E56: 0 | G56: 0 | I56: =SUM(E56:G56) -> 0 | L56: 0 | N56: =SUM(L56-I56) -> 0
C58: Other | E58: 0 | G58: 0 | I58: =SUM(E58:G58) -> 0 | L58: 0 | N58: =SUM(L58-I58) -> 0
C60: Cost Selection: | E60: =SUM(E36:E58) -> 0 | G60: =SUM(G36:G58) -> 0 | I60: =SUM(I36:I58) -> 0 | L60: =SUM(L36:L58) -> 0 | N60: =SUM(N36:N58) -> 0
C63: Other Bath 2 | D63: Type (model-style-etc.) | E63: Estimated Cost | G63: Install Cost | I63: Total Estimate | K63: Notes | L63: Actual Cost | N63: Difference
C65: Bath Tub | E65: 0 | G65: 0 | I65: =SUM(E65:G65) -> 0 | L65: 0 | N65: =SUM(L65-I65) -> 0
C67: Shower | E67: 0 | G67: 0 | I67: =SUM(E67:G67) -> 0 | L67: 0 | N67: =SUM(L67-I67) -> 0
C69: Sinks | E69: 0 | G69: 0 | I69: =SUM(E69:G69) -> 0 | L69: 0 | N69: =SUM(L69-I69) -> 0
C71: Faucet / Fittings | E71: 0 | G71: 0 | I71: =SUM(E71:G71) -> 0 | L71: 0 | N71: =SUM(L71-I71) -> 0
C73: Cabinets | E73: 0 | G73: 0 | I73: =SUM(E73:G73) -> 0 | L73: 0 | N73: =SUM(L73-I73) -> 0
C75: Toilets | E75: 0 | G75: 0 | I75: =SUM(E75:G75) -> 0 | L75: 0 | N75: =SUM(L75-I75) -> 0
C77: Other Appliances | E77: 0 | G77: 0 | I77: =SUM(E77:G77) -> 0 | L77: 0 | N77: =SUM(L77-I77) -> 0
C79: Medicine Cabinets | E79: 0 | G79: 0 | I79: =SUM(E79:G79) -> 0 | L79: 0 | N79: =SUM(L79-I79) -> 0
C81: Laundry Facilities | E81: 0 | G81: 0 | I81: =SUM(E81:G81) -> 0 | L81: 0 | N81: =SUM(L81-I81) -> 0
C83: Storage Facilities | E83: 0 | G83: 0 | I83: =SUM(E83:G83) -> 0 | L83: 0 | N83: =SUM(L83-I83) -> 0
C85: Other | E85: 0 | G85: 0 | I85: =SUM(E85:G85) -> 0 | L85: 0 | N85: =SUM(L85-I85) -> 0
C87: Other | E87: 0 | G87: 0 | I87: =SUM(E87:G87) -> 0 | L87: 0 | N87: =SUM(L87-I87) -> 0
C89: Cost Selection: | E89: =SUM(E65:E87) -> 0 | G89: =SUM(G65:G87) -> 0 | I89: =SUM(I65:I87) -> 0 | L89: =SUM(L65:L87) -> 0 | N89: =SUM(N65:N87) -> 0
C92: Other Bath 3 | D92: Type (model-style-etc.) | E92: Estimated Cost | G92: Install Cost | I92: Total Estimate | K92: Notes | L92: Actual Cost | N92: Difference
C94: Bath Tub | E94: 0 | G94: 0 | I94: =SUM(E94:G94) -> 0 | L94: 0 | N94: =SUM(L94-I94) -> 0
C96: Shower | E96: 0 | G96: 0 | I96: =SUM(E96:G96) -> 0 | L96: 0 | N96: =SUM(L96-I96) -> 0
C98: Sinks | E98: 0 | G98: 0 | I98: =SUM(E98:G98) -> 0 | L98: 0 | N98: =SUM(L98-I98) -> 0
C100: Faucet / Fittings | E100: 0 | G100: 0 | I100: =SUM(E100:G100) -> 0 | L100: 0 | N100: =SUM(L100-I100) -> 0
C102: Cabinets | E102: 0 | G102: 0 | I102: =SUM(E102:G102) -> 0 | L102: 0 | N102: =SUM(L102-I102) -> 0
C104: Toilets | E104: 0 | G104: 0 | I104: =SUM(E104:G104) -> 0 | L104: 0 | N104: =SUM(L104-I104) -> 0
C106: Other Appliances | E106: 0 | G106: 0 | I106: =SUM(E106:G106) -> 0 | L106: 0 | N106: =SUM(L106-I106) -> 0
C108: Medicine Cabinets | E108: 0 | G108: 0 | I108: =SUM(E108:G108) -> 0 | L108: 0 | N108: =SUM(L108-I108) -> 0
C110: Laundry Facilities | E110: 0 | G110: 0 | I110: =SUM(E110:G110) -> 0 | L110: 0 | N110: =SUM(L110-I110) -> 0
C112: Storage Facilities | E112: 0 | G112: 0 | I112: =SUM(E112:G112) -> 0 | L112: 0 | N112: =SUM(L112-I112) -> 0
C114: Other | E114: 0 | G114: 0 | I114: =SUM(E114:G114) -> 0 | L114: 0 | N114: =SUM(L114-I114) -> 0
C116: Other | E116: 0 | G116: 0 | I116: =SUM(E116:G116) -> 0 | L116: 0 | N116: =SUM(L116-I116) -> 0
C118: Cost Selection: | E118: =SUM(E94:E116) -> 0 | G118: =SUM(G94:G116) -> 0 | I118: =SUM(I94:I116) -> 0 | L118: =SUM(L94:L116) -> 0 | N118: =SUM(N94:N116) -> 0
C121: Other Bath 4 | D121: Type (model-style-etc.) | E121: Estimated Cost | G121: Install Cost | I121: Total Estimate | K121: Notes | L121: Actual Cost | N121: Difference
C123: Bath Tub | E123: 0 | G123: 0 | I123: =SUM(E123:G123) -> 0 | L123: 0 | N123: =SUM(L123-I123) -> 0
C125: Shower | E125: 0 | G125: 0 | I125: =SUM(E125:G125) -> 0 | L125: 0 | N125: =SUM(L125-I125) -> 0
C127: Sinks | E127: 0 | G127: 0 | I127: =SUM(E127:G127) -> 0 | L127: 0 | N127: =SUM(L127-I127) -> 0
C129: Faucet / Fittings | E129: 0 | G129: 0 | I129: =SUM(E129:G129) -> 0 | L129: 0 | N129: =SUM(L129-I129) -> 0
C131: Cabinets | E131: 0 | G131: 0 | I131: =SUM(E131:G131) -> 0 | L131: 0 | N131: =SUM(L131-I131) -> 0
C133: Toilets | E133: 0 | G133: 0 | I133: =SUM(E133:G133) -> 0 | L133: 0 | N133: =SUM(L133-I133) -> 0
C135: Other Appliances | E135: 0 | G135: 0 | I135: =SUM(E135:G135) -> 0 | L135: 0 | N135: =SUM(L135-I135) -> 0
C137: Medicine Cabinets | E137: 0 | G137: 0 | I137: =SUM(E137:G137) -> 0 | L137: 0 | N137: =SUM(L137-I137) -> 0
C139: Laundry Facilities | E139: 0 | G139: 0 | I139: =SUM(E139:G139) -> 0 | L139: 0 | N139: =SUM(L139-I139) -> 0
C141: Storage Facilities | E141: 0 | G141: 0 | I141: =SUM(E141:G141) -> 0 | L141: 0 | N141: =SUM(L141-I141) -> 0
C143: Other | E143: 0 | G143: 0 | I143: =SUM(E143:G143) -> 0 | L143: 0 | N143: =SUM(L143-I143) -> 0
C145: Other | E145: 0 | G145: 0 | I145: =SUM(E145:G145) -> 0 | L145: 0 | N145: =SUM(L145-I145) -> 0
C147: Cost Selection: | E147: =SUM(E123:E145) -> 0 | G147: =SUM(G123:G145) -> 0 | I147: =SUM(I123:I145) -> 0 | L147: =SUM(L123:L145) -> 0 | N147: =SUM(N123:N145) -> 0
C151: Total Estimated Cost: | E151: =SUM(I147,I118,I89,I60,I31) -> 0 | L151: =SUM(L147,L118,L89,L60,L31) -> 0 | N151: =SUM(N147,N118,N89,N60,N31) -> 0

Sheet Laundry
B1: Laundry and Cleaning Closet | J1: return to home specs
B3: refer to specification plan: page 44
C5: Laundry Room | E5: Type (model-style-etc.) | F5: Estimated Cost | H5: Install Cost | J5: Total Estimate | L5: Notes | M5: Actual Cost | O5: Difference
C7: For Electric Appliance | F7: 0 | H7: 0 | J7: =SUM(F7:H7) -> 0 | M7: 0 | O7: =SUM(M7-J7) -> 0
C9: For Gas Appliance | F9: 0 | H9: 0 | J9: =SUM(F9:H9) -> 0 | M9: 0 | O9: =SUM(M9-J9) -> 0
C11: Utility Sink | F11: 0 | H11: 0 | J11: =SUM(F11:H11) -> 0 | M11: 0 | O11: =SUM(M11-J11) -> 0
C13: Laundry Shoot | F13: 0 | H13: 0 | J13: =SUM(F13:H13) -> 0 | M13: 0 | O13: =SUM(M13-J13) -> 0
C15: Folding Counter Top | F15: 0 | H15: 0 | J15: =SUM(F15:H15) -> 0 | M15: 0 | O15: =SUM(M15-J15) -> 0
C17: Shelving | F17: 0 | H17: 0 | J17: =SUM(F17:H17) -> 0 | M17: 0 | O17: =SUM(M17-J17) -> 0
C19: Cabinets | F19: 0 | H19: 0 | J19: =SUM(F19:H19) -> 0 | M19: 0 | O19: =SUM(M19-J19) -> 0
C21: Medicine Cabinets | F21: 0 | H21: 0 | J21: =SUM(F21:H21) -> 0 | M21: 0 | O21: =SUM(M21-J21) -> 0
C23: Other | F23: 0 | H23: 0 | J23: =SUM(F23:H23) -> 0 | M23: 0 | O23: =SUM(M23-J23) -> 0
C25: Other | F25: 0 | H25: 0 | J25: =SUM(F25:H25) -> 0 | M25: 0 | O25: =SUM(M25-J25) -> 0
C27: Cost Selection: | J27: =SUM(J7:J25) -> 0 | M27: =SUM(M7:M25) -> 0 | O27: =SUM(O7:O25) -> 0
C30: Cleaning Closet | E30: Type (model-style-etc.) | F30: Estimated Cost | H30: Install Cost | J30: Total Estimate | L30: Notes | M30: Actual Cost | O30: Difference
C32: Centralized Vacuum | F32: 0 | H32: 0 | J32: =SUM(F32:H32) -> 0 | M32: 0 | O32: =SUM(M32-J32) -> 0
C34: Shelving | F34: 0 | H34: 0 | J34: =SUM(F34:H34) -> 0 | M34: 0 | O34: =SUM(M34-J34) -> 0
C36: Cabinets | F36: 0 | H36: 0 | J36: =SUM(F36:H36) -> 0 | M36: 0 | O36: =SUM(M36-J36) -> 0
C38: Utility Sink | F38: 0 | H38: 0 | J38: =SUM(F38:H38) -> 0 | M38: 0 | O38: =SUM(M38-J38) -> 0
C40: Other | F40: 0 | H40: 0 | J40: =SUM(F40:H40) -> 0 | M40: 0 | O40: =SUM(M40-J40) -> 0
C42: Other | F42: 0 | H42: 0 | J42: =SUM(F42:H42) -> 0 | M42: 0 | O42: =SUM(M42-J42) -> 0
C44: Other | F44: 0 | H44: 0 | J44: =SUM(F44:H44) -> 0 | M44: 0 | O44: =SUM(M44-J44) -> 0
C46: Cost Selection: | J46: =SUM(J32:J44) -> 0 | M46: =SUM(M32:M44) -> 0 | O46: =SUM(O32:O44) -> 0
C49: Mud Room | E49: Type (model-style-etc.) | F49: Estimated Cost | H49: Install Cost | J49: Total Estimate | L49: Notes | M49: Actual Cost | O49: Difference
C51: Shoe Rack | F51: 0 | H51: 0 | J51: =SUM(F51:H51) -> 0 | M51: 0 | O51: =SUM(M51-J51) -> 0
C53: Clothes Hanging | F53: 0 | H53: 0 | J53: =SUM(F53:H53) -> 0 | M53: 0 | O53: =SUM(M53-J53) -> 0
C55: Utility Sink / Other Plumbing | F55: 0 | H55: 0 | J55: =SUM(F55:H55) -> 0 | M55: 0 | O55: =SUM(M55-J55) -> 0
C57: Shelving | F57: 0 | H57: 0 | J57: =SUM(F57:H57) -> 0 | M57: 0 | O57: =SUM(M57-J57) -> 0
C59: Other | F59: 0 | H59: 0 | J59: =SUM(F59:H59) -> 0 | M59: 0 | O59: =SUM(M59-J59) -> 0
C61: Other | F61: 0 | H61: 0 | J61: =SUM(F61:H61) -> 0 | M61: 0 | O61: =SUM(M61-J61) -> 0
C63: Cost Selection: | J63: =SUM(J51:J61) -> 0 | M63: =SUM(M51:M61) -> 0 | O63: =SUM(O51:O61) -> 0
C67: Total Estimated Cost: | J67: =SUM(J63,J46,J27) -> 0 | M67: =SUM(M63,M46,M27) -> 0 | O67: =SUM(O63,O46,O27) -> 0

Sheet Flooring
B1: Flooring | G1: return to home specs
B3: refer to specification plan: page 60
C5: Room | E5: Room Location | G5: Flooring Type/Need | H5: Material Cost | J5: Install Cost | L5: Total Estimate | N5: Notes | O5: Actual Cost | Q5: Difference
C7: Example: | E7: Entire Room | G7: Wood Floor | H7: Cost of Flooring | J7: Cost of Installation | L7: Total Est. Cost | N7: Any Descriptions or Notes
C9: Entry Way / Foyer | H9: 0 | J9: 0 | L9: =SUM(H9:J9) -> 0 | O9: 0 | Q9: =SUM(O9-L9) -> 0
C10: Hall | H10: 0 | J10: 0 | L10: =SUM(H10:J10) -> 0 | O10: 0 | Q10: =SUM(O10-L10) -> 0
C11: Living Room | H11: 0 | J11: 0 | L11: =SUM(H11:J11) -> 0 | O11: 0 | Q11: =SUM(O11-L11) -> 0
C12: Dining Room | H12: 0 | J12: 0 | L12: =SUM(H12:J12) -> 0 | O12: 0 | Q12: =SUM(O12-L12) -> 0
C13: Kitchen | H13: 0 | J13: 0 | L13: =SUM(H13:J13) -> 0 | O13: 0 | Q13: =SUM(O13-L13) -> 0
C14: Breakfast | H14: 0 | J14: 0 | L14: =SUM(H14:J14) -> 0 | O14: 0 | Q14: =SUM(O14-L14) -> 0
C15: Solarium | H15: 0 | J15: 0 | L15: =SUM(H15:J15) -> 0 | O15: 0 | Q15: =SUM(O15-L15) -> 0
C16: Family (Great Room) | H16: 0 | J16: 0 | L16: =SUM(H16:J16) -> 0 | O16: 0 | Q16: =SUM(O16-L16) -> 0
C17: Den / Library | H17: 0 | J17: 0 | L17: =SUM(H17:J17) -> 0 | O17: 0 | Q17: =SUM(O17-L17) -> 0
C18: Recreation / Music Room | H18: 0 | J18: 0 | L18: =SUM(H18:J18) -> 0 | O18: 0 | Q18: =SUM(O18-L18) -> 0
C19: Powder Room | H19: 0 | J19: 0 | L19: =SUM(H19:J19) -> 0 | O19: 0 | Q19: =SUM(O19-L19) -> 0
C20: Mud (Laundry Room) | H20: 0 | J20: 0 | L20: =SUM(H20:J20) -> 0 | O20: 0 | Q20: =SUM(O20-L20) -> 0
... C43: Garage | H43: 0 | J43: 0 | L43: =SUM(H43:J43) -> 0 | O43: 0 | Q43: =SUM(O43-L43) -> 0
C46: Total Estimated Cost | L46: =SUM(L9:L43) -> 0 | O46: =SUM(O9:O43) -> 0 | Q46: =SUM(Q9:Q43) -> 0

Sheet Lighting
B1: Lighting | G1: return to home specs
B3: refer to specification plan: page 60
C5: Room | E5: Room Location | G5: Lighting Needs | I5: Material Cost | K5: Install Cost | M5: Total Estimate | O5: Notes | P5: Actual Cost | R5: Difference
C7: Example: | E7: Room Area | G7: Ceiling Fan | I7: Cost of Lighting | K7: Cost of Installation | M7: Total Est. Cost | O7: Any Descriptions or Notes
C9: Entry Way / Foyer | I9: 0 | K9: 0 | M9: =SUM(I9:K9) -> 0 | P9: 0 | R9: =SUM(P9-M9) -> 0
C10: Hall | I10: 0 | K10: 0 | M10: =SUM(I10:K10) -> 0 | P10: 0 | R10: =SUM(P10-M10) -> 0
C11: Living Room | I11: 0 | K11: 0 | M11: =SUM(I11:K11) -> 0 | P11: 0 | R11: =SUM(P11-M11) -> 0
C12: Dining Room | I12: 0 | K12: 0 | M12: =SUM(I12:K12) -> 0 | P12: 0 | R12: =SUM(P12-M12) -> 0
C13: Kitchen | I13: 0 | K13: 0 | M13: =SUM(I13:K13) -> 0 | P13: 0 | R13: =SUM(P13-M13) -> 0
C14: Breakfast | I14: 0 | K14: 0 | M14: =SUM(I14:K14) -> 0 | P14: 0 | R14: =SUM(P14-M14) -> 0
C15: Solarium | I15: 0 | K15: 0 | M15: =SUM(I15:K15) -> 0 | P15: 0 | R15: =SUM(P15-M15) -> 0
C16: Family (Great Room) | I16: 0 | K16: 0 | M16: =SUM(I16:K16) -> 0 | P16: 0 | R16: =SUM(P16-M16) -> 0
C17: Den / Library | I17: 0 | K17: 0 | M17: =SUM(I17:K17) -> 0 | P17: 0 | R17: =SUM(P17-M17) -> 0
C18: Recreation / Music Room | I18: 0 | K18: 0 | M18: =SUM(I18:K18) -> 0 | P18: 0 | R18: =SUM(P18-M18) -> 0
C19: Powder Room | I19: 0 | K19: 0 | M19: =SUM(I19:K19) -> 0 | P19: 0 | R19: =SUM(P19-M19) -> 0
C20: Mud (Laundry Room) | I20: 0 | K20: 0 | M20: =SUM(I20:K20) -> 0 | P20: 0 | R20: =SUM(P20-M20) -> 0
... C43: Garage | I43: 0 | K43: 0 | M43: =SUM(I43:K43) -> 0 | P43: 0 | R43: =SUM(P43-M43) -> 0
C46: Total Estimated Cost | M46: =SUM(M9:M43) -> 0 | P46: =SUM(P9:P43) -> 0 | R46: =SUM(R9:R43) -> 0

Sheet Other
B1: Other Amenities | G1: return to home specs
B3: refer to specification plan: page 70
C5: Room | E5: Room Location | G5: Material Cost | H5: Material Cost | J5: Install Cost | L5: Total Estimate | N5: Notes | O5: Actual Cost | Q5: Difference
C7: Example: | E7: Against Outside Wall | G7: Fireplace or Shelving | H7: Cost of Amenities | J7: Cost of Installation | L7: Total Est. Cost | N7: Any Descriptions or Notes
C9: Entry Way / Foyer | H9: 0 | J9: 0 | L9: =SUM(H9:J9) -> 0 | O9: 0 | Q9: =SUM(O9-L9) -> 0
C10: Hall | H10: 0 | J10: 0 | L10: =SUM(H10:J10) -> 0 | O10: 0 | Q10: =SUM(O10-L10) -> 0
C11: Living Room | H11: 0 | J11: 0 | L11: =SUM(H11:J11) -> 0 | O11: 0 | Q11: =SUM(O11-L11) -> 0
C12: Dining Room | H12: 0 | J12: 0 | L12: =SUM(H12:J12) -> 0 | O12: 0 | Q12: =SUM(O12-L12) -> 0
C13: Kitchen | H13: 0 | J13: 0 | L13: =SUM(H13:J13) -> 0 | O13: 0 | Q13: =SUM(O13-L13) -> 0
C14: Breakfast | H14: 0 | J14: 0 | L14: =SUM(H14:J14) -> 0 | O14: 0 | Q14: =SUM(O14-L14) -> 0
C15: Solarium | H15: 0 | J15: 0 | L15: =SUM(H15:J15) -> 0 | O15: 0 | Q15: =SUM(O15-L15) -> 0
C16: Family (Great Room) | H16: 0 | J16: 0 | L16: =SUM(H16:J16) -> 0 | O16: 0 | Q16: =SUM(O16-L16) -> 0
C17: Den / Library | H17: 0 | J17: 0 | L17: =SUM(H17:J17) -> 0 | O17: 0 | Q17: =SUM(O17-L17) -> 0
C18: Recreation / Music Room | H18: 0 | J18: 0 | L18: =SUM(H18:J18) -> 0 | O18: 0 | Q18: =SUM(O18-L18) -> 0
C19: Powder Room | H19: 0 | J19: 0 | L19: =SUM(H19:J19) -> 0 | O19: 0 | Q19: =SUM(O19-L19) -> 0
C20: Mud (Laundry Room) | H20: 0 | J20: 0 | L20: =SUM(H20:J20) -> 0 | O20: 0 | Q20: =SUM(O20-L20) -> 0
... C43: Garage | H43: 0 | J43: 0 | L43: =SUM(H43:J43) -> 0 | O43: 0 | Q43: =SUM(O43-L43) -> 0
C46: Total Estimated Cost | L46: =SUM(L9:L43) -> 0 | O46: =SUM(O9:O43) -> 0 | Q46: =SUM(Q9:Q43) -> 0

Sheet Garage
B1: Garage / Pathways | G1: return to home specs
B3: refer to specification plan: page 65
C5: Garage | E5: Estimated Cost | G5: Notes (Description) | H5: Actual Cost | J5: Difference
C7: Flooring | E7: 0 | H7: 0 | J7: =SUM(H7-E7) -> 0
C9: Electrical | E9: 0 | H9: 0 | J9: =SUM(H9-E9) -> 0
C11: Lighting | E11: 0 | H11: 0 | J11: =SUM(H11-E11) -> 0
C13: Walls | E13: 0 | H13: 0 | J13: =SUM(H13-E13) -> 0
C15: Insulation | E15: 0 | H15: 0 | J15: =SUM(H15-E15) -> 0
C17: Other | E17: 0 | H17: 0 | J17: =SUM(H17-E17) -> 0
C19: Other | E19: 0 | H19: 0 | J19: =SUM(H19-E20) -> 0
C21: Cost Selection: | E21: =SUM(E7:E19) -> 0 | H21: =SUM(H7:H19) -> 0 | J21: =SUM(J7:J19) -> 0
C24: Drive Way | E24: Estimated Cost | G24: Notes (Description)
C26: Interlocking Block | E26: 0 | H26: 0 | J26: =SUM(H26-E26) -> 0
C28: Brick | E28: 0 | H28: 0 | J28: =SUM(H28-E28) -> 0
C30: Asphalt Paving | E30: 0 | H30: 0 | J30: =SUM(H30-E30) -> 0
C32: Concrete Paving | E32: 0 | H32: 0 | J32: =SUM(H32-E32) -> 0
C34: Pebble Rock | E34: 0 | H34: 0 | J34: =SUM(H34-E34) -> 0
C36: Other | E36: 0 | H36: 0 | J36: =SUM(H36-E36) -> 0
C38: Other | E38: 0 | H38: 0 | J38: =SUM(H38-E39) -> 0
C40: Cost Selection: | E40: =SUM(E26:E38) -> 0 | H40: =SUM(H26:H38) -> 0 | J40: =SUM(J26:J38) -> 0
C43: Path Ways | E43: Estimated Cost | G43: Notes (Description)
C45: Interlocking Block | E45: 0 | H45: 0 | J45: =SUM(H45-E45) -> 0
C47: Brick | E47: 0 | H47: 0 | J47: =SUM(H47-E47) -> 0
C49: Stone | E49: 0 | H49: 0 | J49: =SUM(H49-E49) -> 0
C51: Concrete Paving | E51: 0 | H51: 0 | J51: =SUM(H51-E51) -> 0
C53: Pebble Rock | E53: 0 | H53: 0 | J53: =SUM(H53-E53) -> 0
C55: Other | E55: 0 | H55: 0 | J55: =SUM(H55-E55) -> 0
C57: Other | E57: 0 | H57: 0 | J57: =SUM(H57-E58) -> 0
C59: Cost Selection: | E59: =SUM(E45:E57) -> 0 | H59: =SUM(H45:H57) -> 0 | J59: =SUM(J45:J57) -> 0
C63: Total Estimated Cost: | E63: =SUM(E59,E40,E21) -> 0 | H63: =SUM(H59,H40,H21) -> 0 | J63: =SUM(J59,J40,J21) -> 0

Sheet Deck
B1: Around the Deck | G1: return to home specs
B3: refer to specification plan: page 76
C5: Garage | E5: Estimated Cost | G5: Notes (Description) | I5: Actual Cost | K5: Difference
C7: Deck Design | E7: 0 | I7: 0 | K7: =SUM(I7-E7) -> 0
C9: Wood Decks | E9: 0 | I9: 0 | K9: =SUM(I9-E9) -> 0
C11: Wood Composite | E11: 0 | I11: 0 | K11: =SUM(I11-E11) -> 0
C13: Vinyl Decks | E13: 0 | I13: 0 | K13: =SUM(I13-E13) -> 0
C15: Railings | E15: 0 | I15: 0 | K15: =SUM(I15-E15) -> 0
C17: Other | E17: 0 | I17: 0 | K17: =SUM(I17-E17) -> 0
C19: Other | E19: 0 | I19: 0 | K19: =SUM(I19-E20) -> 0
C21: Cost Selection: | E21: =SUM(E7:E19) -> 0 | I21: =SUM(I7:I19) -> 0 | K21: =SUM(K7:K19) -> 0
C24: Patios | E24: Estimated Cost | G24: Notes (Description)
C26: Interlocking Block | E26: 0 | I26: 0 | K26: =SUM(I26-E26) -> 0
C28: Brick | E28: 0 | I28: 0 | K28: =SUM(I28-E28) -> 0
C30: Stone | E30: 0 | I30: 0 | K30: =SUM(I30-E30) -> 0
C32: Concrete | E32: 0 | I32: 0 | K32: =SUM(I32-E32) -> 0
C34: Pebble Rock | E34: 0 | I34: 0 | K34: =SUM(I34-E34) -> 0
C36: Other | E36: 0 | I36: 0 | K36: =SUM(I36-E36) -> 0
C38: Other | E38: 0 | I38: 0 | K38: =SUM(I38-E39) -> 0
C40: Cost Selection: | E40: =SUM(E26:E38) -> 0 | I40: =SUM(I26:I38) -> 0 | K40: =SUM(K26:K38) -> 0
C43: Entertainment | E43: Estimated Cost | G43: Notes (Description)
C45: Grill Station | E45: 0 | I45: 0 | K45: =SUM(I45-E45) -> 0
C47: Fire Pits | E47: 0 | I47: 0 | K47: =SUM(I47-E47) -> 0
C49: Other | E49: 0 | I49: 0 | K49: =SUM(I49-E49) -> 0
C51: Other | E51: 0 | I51: 0 | K51: =SUM(I51-E51) -> 0
C53: Cost Selection: | E53: =SUM(E45:E51) -> 0 | I53: =SUM(I45:I51) -> 0 | K53: =SUM(K45:K51) -> 0
C57: Total Estimated Cost: | E57: =SUM(E53,E40,E21) -> 0 | I57: =SUM(I21,I40,I53) -> 0 | K57: =SUM(K21,K40,K53) -> 0

Sheet Water-Sport
B1: Water Needs - Sport Complex | F1: return to home specs
B3: refer to specification plan: page 76
C5: Water Facilities | D5: Estimated Cost | F5: Notes (Description) | G5: Actual Cost | I5: Difference
C7: Spa | D7: 0 | G7: 0 | I7: =SUM(G7-D7) -> 0
C9: Hot Tubs | D9: 0 | G9: 0 | I9: =SUM(G9-D9) -> 0
C11: Swimming Pool | D11: 0 | G11: 0 | I11: =SUM(G11-D11) -> 0
C13: Swimming Deck | D13: 0 | G13: 0 | I13: =SUM(G13-D13) -> 0
C15: Swimming Fence | D15: 0 | G15: 0 | I15: =SUM(G15-D15) -> 0
C17: Other Swimming Requirements | D17: 0 | G17: 0 | I17: =SUM(G17-D17) -> 0
C19: Water Pond | D19: 0 | G19: 0 | I19: =SUM(G19-D20) -> 0
C21: Fountains | D21: 0 | G21: 0 | I21: =SUM(G21-D21) -> 0
C23: Other | D23: 0 | G23: 0 | I23: =SUM(G23-D24) -> 0
C25: Cost Selection: | D25: =SUM(D7:D23) -> 0 | G25: =SUM(G7:G23) -> 0 | I25: =SUM(I7:I23) -> 0
C28: Sport Complex | D28: Estimated Cost | F28: Notes (Description)
C30: Tennis Court | D30: 0 | G30: 0 | I30: =SUM(G30-D30) -> 0
C32: Basketball Court | D32: 0 | G32: 0 | I32: =SUM(G32-D32) -> 0
C34: Play Area | D34: 0 | G34: 0 | I34: =SUM(G34-D34) -> 0
C36: Other | D36: 0 | G36: 0 | I36: =SUM(G36-D36) -> 0
C38: Cost Selection: | D38: =SUM(D30:D36) -> 0 | G38: =SUM(G30:G36) -> 0 | I38: =SUM(I30:I36) -> 0
C42: Total Estimated Cost: | D42: =SUM(D25,D38) -> 0 | G42: =SUM(G25,G38) -> 0 | I42: =SUM(I25,I38) -> 0

Sheet Garden Design
B1: Garden Design / Landscaping | E1: return to home specs
B3: refer to specification plan: page 76
C5: Exterior Front | D5: Estimated Cost | E5: Notes (Description) | F5: Actual Cost | G5: Difference
C7: Along the House | D7: 0 | F7: 0 | G7: =SUM(F7-D7) -> 0
C9: Flower Beds | D9: 0 | F9: 0 | G9: =SUM(F9-D9) -> 0
C11: Trees / Shrubs | D11: 0 | F11: 0 | G11: =SUM(F11-D11) -> 0
C13: Lighting | D13: 0 | F13: 0 | G13: =SUM(F13-D13) -> 0
C15: Other | D15: 0 | F15: 0 | G15: =SUM(F15-D15) -> 0
C17: Other | D17: 0 | F17: 0 | G17: =SUM(F17-D17) -> 0
C19: Cost Selection: | D19: 0 | F19: 0 | G19: =SUM(F19-D20) -> 0
D21: =SUM(D7:D19) -> 0 | F21: =SUM(F7:F19) -> 0 | G21: =SUM(G7:G19) -> 0
C23: Facing Right Side | D23: Estimated Cost | E23: Notes (Description) | F23: Actual Cost | G23: Difference
C25: Along the House | D25: 0 | F25: 0 | G25: =SUM(F25-D25) -> 0
C27: Flower Beds | D27: 0 | F27: 0 | G27: =SUM(F27-D27) -> 0
C29: Trees / Shrubs | D29: 0 | F29: 0 | G29: =SUM(F29-D29) -> 0
C31: Lighting | D31: 0 | F31: 0 | G31: =SUM(F31-D31) -> 0
C33: Other | D33: 0 | F33: 0 | G33: =SUM(F33-D33) -> 0
C35: Other | D35: 0 | F35: 0 | G35: =SUM(F35-D35) -> 0
C37: Cost Selection: | D37: =SUM(D25:D35) -> 0 | F37: =SUM(F25:F35) -> 0 | G37: =SUM(G25:G35) -> 0
C40: Facing Left Site | D40: Estimated Cost | E40: Notes (Description)
C42: Along the House | D42: 0 | F42: 0 | G42: =SUM(F42-D42) -> 0
C44: Flower Beds | D44: 0 | F44: 0 | G44: =SUM(F44-D44) -> 0
C46: Trees / Shrubs | D46: 0 | F46: 0 | G46: =SUM(F46-D46) -> 0
C48: Lighting | D48: 0 | F48: 0 | G48: =SUM(F48-D48) -> 0
C50: Other | D50: 0 | F50: 0 | G50: =SUM(F50-D50) -> 0
C52: Other | D52: 0 | F52: 0 | G52: =SUM(F52-D52) -> 0
C54: Cost Selection: | D54: =SUM(D42:D52) -> 0 | F54: =SUM(F42:F52) -> 0 | G54: =SUM(G42:G52) -> 0
C57: Exterior Rear | D57: Estimated Cost | E57: Notes (Description)
C59: Along the House | D59: 0 | F59: 0 | G59: =SUM(F59-D59) -> 0
C61: Flower Beds | D61: 0 | F61: 0 | G61: =SUM(F61-D61) -> 0
C63: Trees / Shrubs | D63: 0 | F63: 0 | G63: =SUM(F63-D63) -> 0
C65: Lighting | D65: 0 | F65: 0 | G65: =SUM(F65-D65) -> 0
C67: Other | D67: 0 | F67: 0 | G67: =SUM(F67-D67) -> 0
C69: Other | D69: 0 | F69: 0 | G69: =SUM(F69-D69) -> 0
C71: Cost Selection: | D71: =SUM(D59:D69) -> 0 | F71: =SUM(F59:F69) -> 0 | G71: =SUM(G59:G69) -> 0
C75: Total Estimated Cost: | D75: =SUM(D71,D54,D37,D21) -> 0 | F75: =SUM(F71,F54,F37,F21) -> 0 | G75: =SUM(G71,G54,G37,G21) -> 0

Sheet Garden Elements
B1: Garden Elements | G1: return to home specs
B3: refer to specification plan: page 76
C5: Room | D5: Garden Type | E5: Material Cost | F5: Install Cost | G5: Estimated Cost | H5: Notes | I5: Actural Cost | J5: Difference
C7: Example: | D7: Rainbird Sprinklers | E7: Cost of Element | F7: Cost of Intallation | G7: Est. Cost | H7: Any Descriptions or Notes
C9: Irrigation System | E9: 0 | F9: 0 | G9: =SUM(E9:F9) -> 0 | I9: 0 | J9: =SUM(I9-G9) -> 0
C10: Other Watering System | E10: 0 | F10: 0 | G10: =SUM(E10:F10) -> 0 | I10: 0 | J10: =SUM(I10-G10) -> 0
C11: Decorative Fencing | E11: 0 | F11: 0 | G11: =SUM(E11:F11) -> 0 | I11: 0 | J11: =SUM(I11-G11) -> 0
C12: Privacy Fencing | E12: 0 | F12: 0 | G12: =SUM(E12:F12) -> 0 | I12: 0 | J12: =SUM(I12-G12) -> 0
C13: Animal Fencing | E13: 0 | F13: 0 | G13: =SUM(E13:F13) -> 0 | I13: 0 | J13: =SUM(I13-G13) -> 0
C14: Other Fencing | E14: 0 | F14: 0 | G14: =SUM(E14:F14) -> 0 | I14: 0 | J14: =SUM(I14-G14) -> 0
C15: Privacy Barriers | E15: 0 | F15: 0 | G15: =SUM(E15:F15) -> 0 | I15: 0 | J15: =SUM(I15-G15) -> 0
C16: Arbors / Awnings | E16: 0 | F16: 0 | G16: =SUM(E16:F16) -> 0 | I16: 0 | J16: =SUM(I16-G16) -> 0
C17: Gazebos | E17: 0 | F17: 0 | G17: =SUM(E17:F17) -> 0 | I17: 0 | J17: =SUM(I17-G17) -> 0
C18: Greenhouse | E18: 0 | F18: 0 | G18: =SUM(E18:F18) -> 0 | I18: 0 | J18: =SUM(I18-G18) -> 0
C19: Storage Sheds | E19: 0 | F19: 0 | G19: =SUM(E19:F19) -> 0 | I19: 0 | J19: =SUM(I19-G19) -> 0
C20: Flag Pole | E20: 0 | F20: 0 | G20: =SUM(E20:F20) -> 0 | I20: 0 | J20: =SUM(I20-G20) -> 0
... C28: Other | E28: 0 | F28: 0 | G28: =SUM(E28:F28) -> 0 | I28: 0 | J28: =SUM(I28-G28) -> 0
C31: Total Estimated Cost | G31: =SUM(G9:G28) -> 0 | I31: =SUM(I9:I28) -> 0 | J31: =SUM(J9:J28) -> 0

Sheet Interior
B1: Interior Design | D1: return to home specs
B3: refer to specification plan: page 48
C5: Room | D5: Décor Item | E5: Material Cost | F5: Install Cost | G5: Estimated Cost | H5: Notes | I5: Actual Cost | J5: Difference
C7: Example: | D7: Leather Couch | E7: Cost of Interior | F7: Cost of Installation | G7: Est. Cost | H7: Any Descriptions or Notes
C9: Entry Way / Foyer | E9: 0 | F9: 0 | G9: =SUM(E9:F9) -> 0 | I9: 0 | J9: =SUM(I9-G9) -> 0
C10: Hall | E10: 0 | F10: 0 | G10: =SUM(E10:F10) -> 0 | I10: 0 | J10: =SUM(I10-G10) -> 0
C11: Living Room | E11: 0 | F11: 0 | G11: =SUM(E11:F11) -> 0 | I11: 0 | J11: =SUM(I11-G11) -> 0
C12: Dining Room | E12: 0 | F12: 0 | G12: =SUM(E12:F12) -> 0 | I12: 0 | J12: =SUM(I12-G12) -> 0
C13: Kitchen | E13: 0 | F13: 0 | G13: =SUM(E13:F13) -> 0 | I13: 0 | J13: =SUM(I13-G13) -> 0
C14: Breakfast | E14: 0 | F14: 0 | G14: =SUM(E14:F14) -> 0 | I14: 0 | J14: =SUM(I14-G14) -> 0
C15: Solarium | E15: 0 | F15: 0 | G15: =SUM(E15:F15) -> 0 | I15: 0 | J15: =SUM(I15-G15) -> 0
C16: Family (Great Room) | E16: 0 | F16: 0 | G16: =SUM(E16:F16) -> 0 | I16: 0 | J16: =SUM(I16-G16) -> 0
C17: Den / Library | E17: 0 | F17: 0 | G17: =SUM(E17:F17) -> 0 | I17: 0 | J17: =SUM(I17-G17) -> 0
C18: Recreation / Music Room | E18: 0 | F18: 0 | G18: =SUM(E18:F18) -> 0 | I18: 0 | J18: =SUM(I18-G18) -> 0
C19: Powder Room | E19: 0 | F19: 0 | G19: =SUM(E19:F19) -> 0 | I19: 0 | J19: =SUM(I19-G19) -> 0
C20: Mud (Laundry Room) | E20: 0 | F20: 0 | G20: =SUM(E20:F20) -> 0 | I20: 0 | J20: =SUM(I20-G20) -> 0
... C43: Garage | E43: 0 | F43: 0 | G43: =SUM(E43:F43) -> 0 | I43: 0 | J43: =SUM(I43-G43) -> 0
C46: Total Estimated Cost | G46: =SUM(G9:G43) -> 0 | I46: =SUM(I9:I43) -> 0 | J46: =SUM(J9:J43) -> 0

Sheet Exterior Design
B1: Exterior Design | E1: return to home specs
B3: refer to specification plan: page 76
C5: Area | D5: Outside Location | E5: Décor Item | F5: Material Cost | G5: Install Cost | H5: Estimated Cost | I5: Notes | J5: Actual Cost | K5: Difference
C7: Example: | D7: Area | E7: High Scrubs | F7: Cost of Exterior | G7: Cost of Installation | H7: Est. Cost | I7: Any Descriptions or Notes
C9: Deck Area | F9: 0 | G9: 0 | H9: =SUM(F9:G9) -> 0 | J9: 0 | K9: =SUM(J9-H9) -> 0
C10: Deck Area | F10: 0 | G10: 0 | H10: =SUM(F10:G10) -> 0 | J10: 0 | K10: =SUM(J10-H10) -> 0
C11: Deck Area | F11: 0 | G11: 0 | H11: =SUM(F11:G11) -> 0 | J11: 0 | K11: =SUM(J11-H11) -> 0
C12: Patio Area | F12: 0 | G12: 0 | H12: =SUM(F12:G12) -> 0 | J12: 0 | K12: =SUM(J12-H12) -> 0
C13: Patio Area | F13: 0 | G13: 0 | H13: =SUM(F13:G13) -> 0 | J13: 0 | K13: =SUM(J13-H13) -> 0
C14: Patio Area | F14: 0 | G14: 0 | H14: =SUM(F14:G14) -> 0 | J14: 0 | K14: =SUM(J14-H14) -> 0
C15: Front Area | F15: 0 | G15: 0 | H15: =SUM(F15:G15) -> 0 | J15: 0 | K15: =SUM(J15-H15) -> 0
C16: Front Area | F16: 0 | G16: 0 | H16: =SUM(F16:G16) -> 0 | J16: 0 | K16: =SUM(J16-H16) -> 0
C17: Front Area | F17: 0 | G17: 0 | H17: =SUM(F17:G17) -> 0 | J17: 0 | K17: =SUM(J17-H17) -> 0
C18: Front Area | F18: 0 | G18: 0 | H18: =SUM(F18:G18) -> 0 | J18: 0 | K18: =SUM(J18-H18) -> 0
C19: Right Side Area | F19: 0 | G19: 0 | H19: =SUM(F19:G19) -> 0 | J19: 0 | K19: =SUM(J19-H19) -> 0
C20: Right Side Area | F20: 0 | G20: 0 | H20: =SUM(F20:G20) -> 0 | J20: 0 | K20: =SUM(J20-H20) -> 0
... C40: Other: | F40: 0 | G40: 0 | H40: =SUM(F40:G40) -> 0 | J40: 0 | K40: =SUM(J40-H40) -> 0
C43: Total Estimated Cost | H43: =SUM(H9:H40) -> 0 | J43: =SUM(J9:J40) -> 0 | K43: =SUM(K9:K40) -> 0
