Workbook

Sheet Home
B2: Moving Budgeting Worksheet
B4: Use this budgeting worksheet to budget and note cost estimates as you plan your move. Included are links to our
B5: comprehensive moving center for obtaining quotes and related services.
B8: List of Budgeting Worksheets: | C8: Budget | D8: Estimate | F8: Variance | H8: Actual | J8: (+ / -)
B10: Moving Truck Services and Rentals | C10: =SUM('Moving Truck'!C32) -> 0 | D10: =SUM('Moving Truck'!D32) -> 0 | F10: =SUM('Moving Truck'!F32) -> 0 | H10: =SUM('Moving Truck'!H32) -> 0 | J10: =SUM('Moving Truck'!J32) -> 0
B11: Shipping Services | C11: =SUM(Shipping!C32) -> 0 | D11: =SUM(Shipping!D32) -> 0 | F11: =SUM(Shipping!F32) -> 0 | H11: =SUM(Shipping!H32) -> 0 | J11: =SUM(Shipping!J32) -> 0
B12: Packing Supplies and Storage Needs | C12: =SUM('Packing-Storage'!C32) -> 0 | D12: =SUM('Packing-Storage'!D32) -> 0 | F12: =SUM('Packing-Storage'!F32) -> 0 | H12: =SUM('Packing-Storage'!H32) -> 0 | J12: =SUM('Packing-Storage'!J32) -> 0
B13: Professional Moving Help | C13: =SUM(Help!C32) -> 0 | D13: =SUM(Help!D32) -> 0 | F13: =SUM(Help!F32) -> 0 | H13: =SUM(Help!H32) -> 0 | J13: =SUM(Help!J32) -> 0
B14: Find Housing | C14: =SUM(Housing!C32) -> 0 | D14: =SUM(Housing!D32) -> 0 | F14: =SUM(Housing!F32) -> 0 | H14: =SUM(Housing!H32) -> 0 | J14: =SUM(Housing!J32) -> 0
B15: Travel to Your New Place | C15: =SUM(Travel!C32) -> 0 | D15: =SUM(Travel!D32) -> 0 | F15: =SUM(Travel!F32) -> 0 | H15: =SUM(Travel!H32) -> 0 | J15: =SUM(Travel!J32) -> 0
B16: Setting-Up Your New Place | C16: =SUM('Setting-Up'!C32) -> 0 | D16: =SUM('Setting-Up'!D32) -> 0 | F16: =SUM('Setting-Up'!F32) -> 0 | H16: =SUM('Setting-Up'!H32) -> 0 | J16: =SUM('Setting-Up'!J32) -> 0
B18: Total: | C18: =SUM(C10:C16) -> 0 | D18: =SUM(D10:D16) -> 0 | F18: =SUM(F10:F16) -> 0 | H18: =SUM(H10:H16) -> 0 | J18: =SUM(J10:J16) -> 0
B22: Resource Center:
B23: www.SayRelocate.com
B24: member of the Life-Event network that includes:
B25: https://www.letsrenovate.com
B26: https://www.sayeducate.com

Sheet Moving Truck
B2: Moving Budgeting Worksheet | K2: return: home page
C4: Budget | D4: Estimate | F4: Variance | H4: Actual | J4: (+ / -) | K4: Resources
B5: Moving Options
B6: moving vans | F6: =SUM(C6-D6) -> 0 | J6: =SUM(C6-H6) -> 0 | K6: Link to:
F7: =SUM(C7-D7) -> 0 | J7: =SUM(C7-H7) -> 0 | K7: www.SayRelocate.com/move
F8: =SUM(C8-D8) -> 0 | J8: =SUM(C8-H8) -> 0
F9: =SUM(C9-D9) -> 0 | J9: =SUM(C9-H9) -> 0 | K9: for resource information on
F10: =SUM(C10-D10) -> 0 | J10: =SUM(C10-H10) -> 0 | K10: Choose Your Moving Options
F11: =SUM(C11-D11) -> 0 | J11: =SUM(C11-H11) -> 0
F12: =SUM(C12-D12) -> 0 | J12: =SUM(C12-H12) -> 0 | K12: Negotiating Tactics
F13: =SUM(C13-D13) -> 0 | J13: =SUM(C13-H13) -> 0
F14: =SUM(C14-D14) -> 0 | J14: =SUM(C14-H14) -> 0 | K14: use these online services to get
B15: truck rentals | F15: =SUM(C15-D15) -> 0 | J15: =SUM(C15-H15) -> 0 | K15: and compare quotes
F16: =SUM(C16-D16) -> 0 | J16: =SUM(C16-H16) -> 0
F17: =SUM(C17-D17) -> 0 | J17: =SUM(C17-H17) -> 0 | K17: - moving yourself
F18: =SUM(C18-D18) -> 0 | J18: =SUM(C18-H18) -> 0 | K18: - having other move you
F19: =SUM(C19-D19) -> 0 | J19: =SUM(C19-H19) -> 0 | K19: - you pace, they drive
F20: =SUM(C20-D20) -> 0 | J20: =SUM(C20-H20) -> 0 | K20: - making international moves
F21: =SUM(C21-D21) -> 0 | J21: =SUM(C21-H21) -> 0 | K21: - other special moves
F22: =SUM(C22-D22) -> 0 | J22: =SUM(C22-H22) -> 0
F23: =SUM(C23-D23) -> 0 | J23: =SUM(C23-H23) -> 0 | K23: select 2-3 of the best quotes provided --
B24: other | F24: =SUM(C24-D24) -> 0 | J24: =SUM(C24-H24) -> 0 | K24: select by service, price and reliability
F25: =SUM(C25-D25) -> 0 | J25: =SUM(C25-H25) -> 0
F26: =SUM(C26-D26) -> 0 | J26: =SUM(C26-H26) -> 0 | K26: contact each provider that offered a quote
F27: =SUM(C27-D27) -> 0 | J27: =SUM(C27-H27) -> 0 | K27: and negotiate best price based on the
F28: =SUM(C28-D28) -> 0 | J28: =SUM(C28-H28) -> 0 | K28: quotes from the other providers.
F29: =SUM(C29-D29) -> 0 | J29: =SUM(C29-H29) -> 0
F30: =SUM(C30-D30) -> 0 | J30: =SUM(C30-H30) -> 0
B32: Total | C32: =SUM(C6:C30) -> 0 | D32: =SUM(D6:D30) -> 0 | F32: =SUM(F6:F30) -> 0 | H32: =SUM(H6:H30) -> 0 | J32: =SUM(J6:J30) -> 0

Sheet Shipping
B2: Moving Budgeting Worksheet | K2: return: home page
C4: Budget | D4: Estimate | F4: Variance | H4: Actual | J4: (+ / -) | K4: Resources
B5: Shipping Options
B6: vehicles | F6: =SUM(C6-D6) -> 0 | J6: =SUM(C6-H6) -> 0 | K6: Link to:
F7: =SUM(C7-D7) -> 0 | J7: =SUM(C7-H7) -> 0 | K7: www.SayRelocate.com/ship
F8: =SUM(C8-D8) -> 0 | J8: =SUM(C8-H8) -> 0
F9: =SUM(C9-D9) -> 0 | J9: =SUM(C9-H9) -> 0 | K9: for resource information on
F10: =SUM(C10-D10) -> 0 | J10: =SUM(C10-H10) -> 0 | K10: Shipping Your Move Items
F11: =SUM(C11-D11) -> 0 | J11: =SUM(C11-H11) -> 0
F12: =SUM(C12-D12) -> 0 | J12: =SUM(C12-H12) -> 0 | K12: Resources:
F13: =SUM(C13-D13) -> 0 | J13: =SUM(C13-H13) -> 0
F14: =SUM(C14-D14) -> 0 | J14: =SUM(C14-H14) -> 0 | K14: you can hire and bid your shipping
B15: special needs | F15: =SUM(C15-D15) -> 0 | J15: =SUM(C15-H15) -> 0 | K15: needs online
F16: =SUM(C16-D16) -> 0 | J16: =SUM(C16-H16) -> 0
F17: =SUM(C17-D17) -> 0 | J17: =SUM(C17-H17) -> 0 | K17: Special shipping needs include
F18: =SUM(C18-D18) -> 0 | J18: =SUM(C18-H18) -> 0 | K18: pianos, art collections, livestock,
F19: =SUM(C19-D19) -> 0 | J19: =SUM(C19-H19) -> 0 | K19: and other.
F20: =SUM(C20-D20) -> 0 | J20: =SUM(C20-H20) -> 0
F21: =SUM(C21-D21) -> 0 | J21: =SUM(C21-H21) -> 0
F22: =SUM(C22-D22) -> 0 | J22: =SUM(C22-H22) -> 0
F23: =SUM(C23-D23) -> 0 | J23: =SUM(C23-H23) -> 0
B24: other | F24: =SUM(C24-D24) -> 0 | J24: =SUM(C24-H24) -> 0
F25: =SUM(C25-D25) -> 0 | J25: =SUM(C25-H25) -> 0
F26: =SUM(C26-D26) -> 0 | J26: =SUM(C26-H26) -> 0
F27: =SUM(C27-D27) -> 0 | J27: =SUM(C27-H27) -> 0
F28: =SUM(C28-D28) -> 0 | J28: =SUM(C28-H28) -> 0
F29: =SUM(C29-D29) -> 0 | J29: =SUM(C29-H29) -> 0
F30: =SUM(C30-D30) -> 0 | J30: =SUM(C30-H30) -> 0
B32: Total | C32: =SUM(C6:C30) -> 0 | D32: =SUM(D6:D30) -> 0 | F32: =SUM(F6:F30) -> 0 | H32: =SUM(H6:H30) -> 0 | J32: =SUM(J6:J30) -> 0

Sheet Packing-Storage
B2: Moving Budgeting Worksheet | K2: return: home page
C4: Budget | D4: Estimate | F4: Variance | H4: Actual | J4: (+ / -) | K4: Resources
B5: Packing / Storage
B6: packing supplies | F6: =SUM(C6-D6) -> 0 | J6: =SUM(C6-H6) -> 0 | K6: Link to:
B7: Boxes | F7: =SUM(C7-D7) -> 0 | J7: =SUM(C7-H7) -> 0 | K7: www.SayRelocate.com/pack
B8: Packing Materials | F8: =SUM(C8-D8) -> 0 | J8: =SUM(C8-H8) -> 0
B9: Other: | F9: =SUM(C9-D9) -> 0 | J9: =SUM(C9-H9) -> 0 | K9: for resource information on
F10: =SUM(C10-D10) -> 0 | J10: =SUM(C10-H10) -> 0 | K10: Take Inventory / Sorting / Packing
F11: =SUM(C11-D11) -> 0 | J11: =SUM(C11-H11) -> 0
F12: =SUM(C12-D12) -> 0 | J12: =SUM(C12-H12) -> 0 | K12: Resources:
F13: =SUM(C13-D13) -> 0 | J13: =SUM(C13-H13) -> 0
F14: =SUM(C14-D14) -> 0 | J14: =SUM(C14-H14) -> 0 | K14: Online moving boxes and supply vendors
F15: =SUM(C15-D15) -> 0 | J15: =SUM(C15-H15) -> 0
F16: =SUM(C16-D16) -> 0 | J16: =SUM(C16-H16) -> 0
F17: =SUM(C17-D17) -> 0 | J17: =SUM(C17-H17) -> 0
F18: =SUM(C18-D18) -> 0 | J18: =SUM(C18-H18) -> 0
B19: storage units | F19: =SUM(C19-D19) -> 0 | J19: =SUM(C19-H19) -> 0
F20: =SUM(C20-D20) -> 0 | J20: =SUM(C20-H20) -> 0
F21: =SUM(C21-D21) -> 0 | J21: =SUM(C21-H21) -> 0
F22: =SUM(C22-D22) -> 0 | J22: =SUM(C22-H22) -> 0
F23: =SUM(C23-D23) -> 0 | J23: =SUM(C23-H23) -> 0
F24: =SUM(C24-D24) -> 0 | J24: =SUM(C24-H24) -> 0
F25: =SUM(C25-D25) -> 0 | J25: =SUM(C25-H25) -> 0
F26: =SUM(C26-D26) -> 0 | J26: =SUM(C26-H26) -> 0
F27: =SUM(C27-D27) -> 0 | J27: =SUM(C27-H27) -> 0
F28: =SUM(C28-D28) -> 0 | J28: =SUM(C28-H28) -> 0
F29: =SUM(C29-D29) -> 0 | J29: =SUM(C29-H29) -> 0
F30: =SUM(C30-D30) -> 0 | J30: =SUM(C30-H30) -> 0
B32: Total | C32: =SUM(C6:C30) -> 0 | D32: =SUM(D6:D30) -> 0 | F32: =SUM(F6:F30) -> 0 | H32: =SUM(H6:H30) -> 0 | J32: =SUM(J6:J30) -> 0

Sheet Help
B2: Moving Budgeting Worksheet | K2: return: home page
C4: Budget | D4: Estimate | F4: Variance | H4: Actual | J4: (+ / -) | K4: Resources
B5: Professional Services
B6: packing / loading | F6: =SUM(C6-D6) -> 0 | J6: =SUM(C6-H6) -> 0 | K6: Link to:
F7: =SUM(C7-D7) -> 0 | J7: =SUM(C7-H7) -> 0 | K7: www.SayRelocate.com/help
F8: =SUM(C8-D8) -> 0 | J8: =SUM(C8-H8) -> 0
F9: =SUM(C9-D9) -> 0 | J9: =SUM(C9-H9) -> 0 | K9: for resource information on
F10: =SUM(C10-D10) -> 0 | J10: =SUM(C10-H10) -> 0 | K10: Prepare for the Move Day
F11: =SUM(C11-D11) -> 0 | J11: =SUM(C11-H11) -> 0
F12: =SUM(C12-D12) -> 0 | J12: =SUM(C12-H12) -> 0 | K12: Resources:
F13: =SUM(C13-D13) -> 0 | J13: =SUM(C13-H13) -> 0
F14: =SUM(C14-D14) -> 0 | J14: =SUM(C14-H14) -> 0 | K14: For professional packers / cleaners
B15: cleaning and repair | F15: =SUM(C15-D15) -> 0 | J15: =SUM(C15-H15) -> 0 | K15: home repair technicians
F16: =SUM(C16-D16) -> 0 | J16: =SUM(C16-H16) -> 0
F17: =SUM(C17-D17) -> 0 | J17: =SUM(C17-H17) -> 0
F18: =SUM(C18-D18) -> 0 | J18: =SUM(C18-H18) -> 0
F19: =SUM(C19-D19) -> 0 | J19: =SUM(C19-H19) -> 0
F20: =SUM(C20-D20) -> 0 | J20: =SUM(C20-H20) -> 0
F21: =SUM(C21-D21) -> 0 | J21: =SUM(C21-H21) -> 0
F22: =SUM(C22-D22) -> 0 | J22: =SUM(C22-H22) -> 0
F23: =SUM(C23-D23) -> 0 | J23: =SUM(C23-H23) -> 0
F24: =SUM(C24-D24) -> 0 | J24: =SUM(C24-H24) -> 0
F25: =SUM(C25-D25) -> 0 | J25: =SUM(C25-H25) -> 0
F26: =SUM(C26-D26) -> 0 | J26: =SUM(C26-H26) -> 0
F27: =SUM(C27-D27) -> 0 | J27: =SUM(C27-H27) -> 0
... F30: =SUM(C30-D30) -> 0 | J30: =SUM(C30-H30) -> 0
B32: Total | C32: =SUM(C6:C30) -> 0 | D32: =SUM(D6:D30) -> 0 | F32: =SUM(F6:F30) -> 0 | H32: =SUM(H6:H30) -> 0 | J32: =SUM(J6:J30) -> 0

Sheet Housing
B2: Moving Budgeting Worksheet | K2: return: home page
C4: Budget | D4: Estimate | F4: Variance | H4: Actual | J4: (+ / -) | K4: Resources
B5: Housing
B6: home purchase | F6: =SUM(C6-D6) -> 0 | J6: =SUM(C6-H6) -> 0 | K6: Link to:
F7: =SUM(C7-D7) -> 0 | J7: =SUM(C7-H7) -> 0 | K7: www.SayRelocate.com/housing
F8: =SUM(C8-D8) -> 0 | J8: =SUM(C8-H8) -> 0
F9: =SUM(C9-D9) -> 0 | J9: =SUM(C9-H9) -> 0 | K9: for resource information on
F10: =SUM(C10-D10) -> 0 | J10: =SUM(C10-H10) -> 0 | K10: Look for Housing
F11: =SUM(C11-D11) -> 0 | J11: =SUM(C11-H11) -> 0
F12: =SUM(C12-D12) -> 0 | J12: =SUM(C12-H12) -> 0 | K12: Resources:
F13: =SUM(C13-D13) -> 0 | J13: =SUM(C13-H13) -> 0
F14: =SUM(C14-D14) -> 0 | J14: =SUM(C14-H14) -> 0 | K14: Home Buying Center:
B15: apartment rentals | F15: =SUM(C15-D15) -> 0 | J15: =SUM(C15-H15) -> 0 | K15: www.SayHomeBuy.com
F16: =SUM(C16-D16) -> 0 | J16: =SUM(C16-H16) -> 0
F17: =SUM(C17-D17) -> 0 | J17: =SUM(C17-H17) -> 0 | K17: Home Building Center:
F18: =SUM(C18-D18) -> 0 | J18: =SUM(C18-H18) -> 0 | K18: www.SayBuild.com
F19: =SUM(C19-D19) -> 0 | J19: =SUM(C19-H19) -> 0
F20: =SUM(C20-D20) -> 0 | J20: =SUM(C20-H20) -> 0 | K20: Home Selling Center:
F21: =SUM(C21-D21) -> 0 | J21: =SUM(C21-H21) -> 0 | K21: www.SayHomeSell.com
F22: =SUM(C22-D22) -> 0 | J22: =SUM(C22-H22) -> 0
F23: =SUM(C23-D23) -> 0 | J23: =SUM(C23-H23) -> 0
B24: temporary stay | F24: =SUM(C24-D24) -> 0 | J24: =SUM(C24-H24) -> 0 | K24: Home Remodeling:
F25: =SUM(C25-D25) -> 0 | J25: =SUM(C25-H25) -> 0 | K25: www.LetsRenovate.com
F26: =SUM(C26-D26) -> 0 | J26: =SUM(C26-H26) -> 0
F27: =SUM(C27-D27) -> 0 | J27: =SUM(C27-H27) -> 0
F28: =SUM(C28-D28) -> 0 | J28: =SUM(C28-H28) -> 0
F29: =SUM(C29-D29) -> 0 | J29: =SUM(C29-H29) -> 0
F30: =SUM(C30-D30) -> 0 | J30: =SUM(C30-H30) -> 0
B32: Total | C32: =SUM(C6:C30) -> 0 | D32: =SUM(D6:D30) -> 0 | F32: =SUM(F6:F30) -> 0 | H32: =SUM(H6:H30) -> 0 | J32: =SUM(J6:J30) -> 0

Sheet Travel
B2: Moving Budgeting Worksheet | K2: return: home page
C4: Budget | D4: Estimate | F4: Variance | H4: Actual | J4: (+ / -) | K4: Resources
B5: Travel / Misc
B6: by plane | F6: =SUM(C6-D6) -> 0 | J6: =SUM(C6-H6) -> 0 | K6: Link to:
F7: =SUM(C7-D7) -> 0 | J7: =SUM(C7-H7) -> 0 | K7: www.SayRelocate.com/travel
F8: =SUM(C8-D8) -> 0 | J8: =SUM(C8-H8) -> 0
F9: =SUM(C9-D9) -> 0 | J9: =SUM(C9-H9) -> 0 | K9: for resource information on
F10: =SUM(C10-D10) -> 0 | J10: =SUM(C10-H10) -> 0 | K10: Arrange Travel
F11: =SUM(C11-D11) -> 0 | J11: =SUM(C11-H11) -> 0 | K11: Move Into the New Home
B12: by car / lodging | F12: =SUM(C12-D12) -> 0 | J12: =SUM(C12-H12) -> 0
F13: =SUM(C13-D13) -> 0 | J13: =SUM(C13-H13) -> 0
F14: =SUM(C14-D14) -> 0 | J14: =SUM(C14-H14) -> 0
F15: =SUM(C15-D15) -> 0 | J15: =SUM(C15-H15) -> 0
F16: =SUM(C16-D16) -> 0 | J16: =SUM(C16-H16) -> 0
F17: =SUM(C17-D17) -> 0 | J17: =SUM(C17-H17) -> 0
B18: by train / bus | F18: =SUM(C18-D18) -> 0 | J18: =SUM(C18-H18) -> 0
F19: =SUM(C19-D19) -> 0 | J19: =SUM(C19-H19) -> 0
F20: =SUM(C20-D20) -> 0 | J20: =SUM(C20-H20) -> 0
F21: =SUM(C21-D21) -> 0 | J21: =SUM(C21-H21) -> 0
F22: =SUM(C22-D22) -> 0 | J22: =SUM(C22-H22) -> 0
F23: =SUM(C23-D23) -> 0 | J23: =SUM(C23-H23) -> 0
B24: misc travel needs | F24: =SUM(C24-D24) -> 0 | J24: =SUM(C24-H24) -> 0
F25: =SUM(C25-D25) -> 0 | J25: =SUM(C25-H25) -> 0
F26: =SUM(C26-D26) -> 0 | J26: =SUM(C26-H26) -> 0
F27: =SUM(C27-D27) -> 0 | J27: =SUM(C27-H27) -> 0
F28: =SUM(C28-D28) -> 0 | J28: =SUM(C28-H28) -> 0
F29: =SUM(C29-D29) -> 0 | J29: =SUM(C29-H29) -> 0
F30: =SUM(C30-D30) -> 0 | J30: =SUM(C30-H30) -> 0
B32: Total | C32: =SUM(C6:C30) -> 0 | D32: =SUM(D6:D30) -> 0 | F32: =SUM(F6:F30) -> 0 | H32: =SUM(H6:H30) -> 0 | J32: =SUM(J6:J30) -> 0

Sheet Setting-Up
B2: Moving Budgeting Worksheet | K2: return: home page
C4: Budget | D4: Estimate | F4: Variance | H4: Actual | J4: (+ / -) | K4: Resources
B5: Setting Up
B6: transfer / setup utilities | F6: =SUM(C6-D6) -> 0 | J6: =SUM(C6-H6) -> 0 | K6: Link to:
F7: =SUM(C7-D7) -> 0 | J7: =SUM(C7-H7) -> 0 | K7: www.SayRelocate.com/setup
F8: =SUM(C8-D8) -> 0 | J8: =SUM(C8-H8) -> 0
F9: =SUM(C9-D9) -> 0 | J9: =SUM(C9-H9) -> 0 | K9: for resource information on
F10: =SUM(C10-D10) -> 0 | J10: =SUM(C10-H10) -> 0 | K10: Moving Into Your Home
F11: =SUM(C11-D11) -> 0 | J11: =SUM(C11-H11) -> 0 | K11: Fix-Up / Renovate Your Home
F12: =SUM(C12-D12) -> 0 | J12: =SUM(C12-H12) -> 0
F13: =SUM(C13-D13) -> 0 | J13: =SUM(C13-H13) -> 0 | K13: Resources:
F14: =SUM(C14-D14) -> 0 | J14: =SUM(C14-H14) -> 0
B15: getting it clean | F15: =SUM(C15-D15) -> 0 | J15: =SUM(C15-H15) -> 0 | K15: Cancel, setup and transfer your
F16: =SUM(C16-D16) -> 0 | J16: =SUM(C16-H16) -> 0 | K16: home utility services
F17: =SUM(C17-D17) -> 0 | J17: =SUM(C17-H17) -> 0
F18: =SUM(C18-D18) -> 0 | J18: =SUM(C18-H18) -> 0 | K18: Find cleaning and repair services
F19: =SUM(C19-D19) -> 0 | J19: =SUM(C19-H19) -> 0
F20: =SUM(C20-D20) -> 0 | J20: =SUM(C20-H20) -> 0
F21: =SUM(C21-D21) -> 0 | J21: =SUM(C21-H21) -> 0 | K21: Complete resource center for
B22: fixing up the place | F22: =SUM(C22-D22) -> 0 | J22: =SUM(C22-H22) -> 0 | K22: home improvement ideas for
F23: =SUM(C23-D23) -> 0 | J23: =SUM(C23-H23) -> 0 | K23: fixing up the place
F24: =SUM(C24-D24) -> 0 | J24: =SUM(C24-H24) -> 0 | K24: http://www.letsrenovate.com
F25: =SUM(C25-D25) -> 0 | J25: =SUM(C25-H25) -> 0
F26: =SUM(C26-D26) -> 0 | J26: =SUM(C26-H26) -> 0
F27: =SUM(C27-D27) -> 0 | J27: =SUM(C27-H27) -> 0
F28: =SUM(C28-D28) -> 0 | J28: =SUM(C28-H28) -> 0
F29: =SUM(C29-D29) -> 0 | J29: =SUM(C29-H29) -> 0
F30: =SUM(C30-D30) -> 0 | J30: =SUM(C30-H30) -> 0
B32: Total | C32: =SUM(C6:C30) -> 0 | D32: =SUM(D6:D30) -> 0 | F32: =SUM(F6:F30) -> 0 | H32: =SUM(H6:H30) -> 0 | J32: =SUM(J6:J30) -> 0
